BEGIN:VCALENDAR
VERSION:2.0
PRODID:-//北海道中小企業家同友会とかち支部 - ECPv4.6.8//NONSGML v1.0//EN
CALSCALE:GREGORIAN
METHOD:PUBLISH
X-WR-CALNAME:北海道中小企業家同友会とかち支部
X-ORIGINAL-URL:https://tokachi-obihiro.doyu.jp
X-WR-CALDESC:Events for 北海道中小企業家同友会とかち支部
BEGIN:VEVENT
DTSTART;TZID=Asia/Tokyo:20190820T120000
DTEND;TZID=Asia/Tokyo:20190820T130000
DTSTAMP:20260422T101510
CREATED:20190725T005501Z
LAST-MODIFIED:20190730T053741Z
UID:6916-1566302400-1566306000@tokachi-obihiro.doyu.jp
SUMMARY:【日程変更】第３回国際交流ビジネス委員会
DESCRIPTION:■日時：８月２０日（火）１２時～１３時\n■会場：十勝ガーデンズホテル（帯広市西２条南１１丁目）＊駐車場有\n■議題：ニューヨーク視察の検討他\n■食事：１５００円程度 \n
URL:https://tokachi-obihiro.doyu.jp/event/event6916/
LOCATION:北海道帯広市東2条南5丁目1-1\, Japan
CATEGORIES:行事予定告知
ATTACH;FMTTYPE=image/jpeg:https://tokachi-obihiro.doyu.jp/wp/wp-content/uploads/2017/12/thum_logo1.jpg
END:VEVENT
BEGIN:VEVENT
DTSTART;TZID=Asia/Tokyo:20190820T190000
DTEND;TZID=Asia/Tokyo:20190820T210000
DTSTAMP:20260422T101510
CREATED:20190729T051409Z
LAST-MODIFIED:20190729T051409Z
UID:6935-1566327600-1566334800@tokachi-obihiro.doyu.jp
SUMMARY:８月例会 『第２回繁盛セミナー』
DESCRIPTION:◆日　時：８月２０日（火）１９：００～２１：００\n◆会　場：とかち館　(帯広市西7条南6丁目2　電話0155-24-1040)\n◆テーマ：「こうして店は潰れた」地域の為に走り続けたスーパーやまとの教訓\n◆講　師：元株式会社スーパーやまと　代表取締役　小林　久　氏\n◆参加費：無　料　※終了後、講師を囲む会を開催します \nPDFはこちら \n
URL:https://tokachi-obihiro.doyu.jp/event/event6935/
LOCATION:北海道帯広市西7条6丁目2\, 080-0017\, Japan
CATEGORIES:行事予定告知
ATTACH;FMTTYPE=image/jpeg:https://tokachi-obihiro.doyu.jp/wp/wp-content/uploads/2017/12/thum_logo1.jpg
END:VEVENT
BEGIN:VEVENT
DTSTART;TZID=Asia/Tokyo:20190820T190000
DTEND;TZID=Asia/Tokyo:20190820T220000
DTSTAMP:20260422T101510
CREATED:20190729T091656Z
LAST-MODIFIED:20190729T091656Z
UID:6959-1566327600-1566338400@tokachi-obihiro.doyu.jp
SUMMARY:経営指針研究会Cグループ第6講
DESCRIPTION:日　時：8月20日（火）19：00～22：00\n会　場：北海道拓殖バス㈱(音更町字然別北5線西37）\n発表者：全員 \n【発表シート】\n10年ビジョン検討シート \n
URL:https://tokachi-obihiro.doyu.jp/event/event6959/
LOCATION:音更町字然別北5線西37\, 北海道\, Japan
CATEGORIES:行事予定告知
ATTACH;FMTTYPE=image/jpeg:https://tokachi-obihiro.doyu.jp/wp/wp-content/uploads/2017/12/thum_logo1.jpg
END:VEVENT
END:VCALENDAR