BEGIN:VCALENDAR
VERSION:2.0
PRODID:-//北海道中小企業家同友会とかち支部 - ECPv4.6.8//NONSGML v1.0//EN
CALSCALE:GREGORIAN
METHOD:PUBLISH
X-WR-CALNAME:北海道中小企業家同友会とかち支部
X-ORIGINAL-URL:https://tokachi-obihiro.doyu.jp
X-WR-CALDESC:Events for 北海道中小企業家同友会とかち支部
BEGIN:VEVENT
DTSTART;TZID=Asia/Tokyo:20260311T120000
DTEND;TZID=Asia/Tokyo:20260311T132000
DTSTAMP:20260423T125705
CREATED:20260128T013611Z
LAST-MODIFIED:20260128T013715Z
UID:29465-1773230400-1773235200@tokachi-obihiro.doyu.jp
SUMMARY:ランチ交流会＆いろはの会
DESCRIPTION:お昼のひとときに、学びと交流の時間を持ちませんか？ \nこのたび、気軽に情報交換ができる「ランチ会」と、新入会員向け勉強会「いろはの会」をコラボ開催します。\nお食事を楽しみながら、リラックスした雰囲気の中で同友会について学び、会員同士の交流を深めましょう。 \nいろはの会は、入会から1年半の会員を対象に、先輩会員の経営実践を通じて同友会の組織や活用方法を学ぶ勉強会です。\n自社紹介や同友会との関わりについて直接お話を聞けるほか、同時期に入会した仲間との交流も深められます。 \n今回は昼開催です。\n「夜の会合には参加しづらい」「どの例会に参加すればよいか迷っている」という方にもおすすめです。\nランチタイムを有効活用し、学びとつながりを広げてみませんか？\nお気軽にご参加ください。 \n  \n■日　時：３月１１日（水） １２：００～１３：２０ \n■会　場：ふく井ホテル２階 （帯広市西1条南11丁目19-1）\n　　　　　※同友会会員のお店です！ \n■会　費：3\,000円　※飲食代として（和定食） \n■スケジュール\n1、報告「ちょっといい話」\n　　　（有）長屋機工　代表取締役　石原　潤 氏\n　　　　　　　　　（スタートアップ委員会　委員長）\n2、意見交換 \n※お申込みは、３月９日（月）までにお願いいたします。\n※締切以降のお申込みは事務局までお問合わせください。\n※お問合わせは同友会事務局（担当：北村）まで　TEL:0155-22-3611 \nPDFはこちら \n
URL:https://tokachi-obihiro.doyu.jp/event/event29465/
LOCATION:帯広市西1条南11丁目19\, Japan
CATEGORIES:行事予定告知
ATTACH;FMTTYPE=image/jpeg:https://tokachi-obihiro.doyu.jp/wp/wp-content/uploads/2017/12/thum_logo1.jpg
ORGANIZER;CN="%E5%8C%97%E6%B5%B7%E9%81%93%E4%B8%AD%E5%B0%8F%E4%BC%81%E6%A5%AD%E5%AE%B6%E5%90%8C%E5%8F%8B%E4%BC%9A%E3%81%A8%E3%81%8B%E3%81%A1%E6%94%AF%E9%83%A8":MAILTO:tokachi@hokkaido.doyu.jp
END:VEVENT
BEGIN:VEVENT
DTSTART;TZID=Asia/Tokyo:20260311T180000
DTEND;TZID=Asia/Tokyo:20260311T200000
DTSTAMP:20260423T125705
CREATED:20260220T014422Z
LAST-MODIFIED:20260220T014422Z
UID:29629-1773252000-1773259200@tokachi-obihiro.doyu.jp
SUMMARY:第11回共育委員会
DESCRIPTION:【開催概要】\n日時：3月11日（水）18：00～20：00\n会場：同友会とかち事務所 (帯広市東２条南５丁目１)\n議題（案）：\n　　 0）支部3月例会プレ報告　　\n　　1）企画の振り返り\n　　 2）今後の研修企画について\n　　 3）その他 \n
URL:https://tokachi-obihiro.doyu.jp/event/event29629/
LOCATION:北海道帯広市東2条南5丁目1-1\, Japan
CATEGORIES:行事予定告知
ATTACH;FMTTYPE=image/jpeg:https://tokachi-obihiro.doyu.jp/wp/wp-content/uploads/2017/12/thum_logo1.jpg
ORGANIZER;CN="%E5%8C%97%E6%B5%B7%E9%81%93%E4%B8%AD%E5%B0%8F%E4%BC%81%E6%A5%AD%E5%AE%B6%E5%90%8C%E5%8F%8B%E4%BC%9A%E3%81%A8%E3%81%8B%E3%81%A1%E6%94%AF%E9%83%A8":MAILTO:tokachi@hokkaido.doyu.jp
END:VEVENT
BEGIN:VEVENT
DTSTART;TZID=Asia/Tokyo:20260311T190000
DTEND;TZID=Asia/Tokyo:20260311T210000
DTSTAMP:20260423T125705
CREATED:20260213T061115Z
LAST-MODIFIED:20260213T061710Z
UID:29607-1773255600-1773262800@tokachi-obihiro.doyu.jp
SUMMARY:青年経営者の会第8回例会
DESCRIPTION:■日　時：3月11日（水）19：00～21：00\n　　　　　１．卒業セレモニー／19：00～19:30\n　　　　　２．懇親会／19:30～21:00 \n■会　場：十勝ガーデンズホテル（帯広市西２条南１１丁目１６） \n■参加費：６\,０００円（懇親会費として）※領収証はお店から発行 \n  \n2名の方が青年経営者の会を卒業されます。2025年度の最終例会として、\n卒業セレモニーならびに卒業生を囲んでの懇親会を行います。\nまた、今回はOBの皆様にもぜひご参加いただきたく存じます。 \n  \n※終了後に、二次会を開催します。ぜひご参加ください。会場未定、会費実費。\n※3/9（月）以降のキャンセルは参加費を申し受けますので、ご了承ください。 \n※準備の関係上、３月6日（金）までに出欠回答をお願いします。 \nPDFはこちら \n
URL:https://tokachi-obihiro.doyu.jp/event/event29607/
LOCATION:帯広市西2条南11丁目16\, 帯広市\, 北海道\, Japan
CATEGORIES:行事予定告知
ATTACH;FMTTYPE=image/jpeg:https://tokachi-obihiro.doyu.jp/wp/wp-content/uploads/2017/12/thum_logo1.jpg
ORGANIZER;CN="%E5%8C%97%E6%B5%B7%E9%81%93%E4%B8%AD%E5%B0%8F%E4%BC%81%E6%A5%AD%E5%AE%B6%E5%90%8C%E5%8F%8B%E4%BC%9A%E3%81%A8%E3%81%8B%E3%81%A1%E6%94%AF%E9%83%A8":MAILTO:tokachi@hokkaido.doyu.jp
END:VEVENT
BEGIN:VEVENT
DTSTART;TZID=Asia/Tokyo:20260311T190000
DTEND;TZID=Asia/Tokyo:20260311T210000
DTSTAMP:20260423T125705
CREATED:20260311T060226Z
LAST-MODIFIED:20260311T060226Z
UID:29804-1773255600-1773262800@tokachi-obihiro.doyu.jp
SUMMARY:第10回農業経営部会三役会
DESCRIPTION:と　き：3月11日(水)19：00～21：00\nところ：同友会事務所(帯広市東2条南5丁目1) または Zoom参加\n※ID・パスワードと当日の議案書資料は後程お送りします。 \n
URL:https://tokachi-obihiro.doyu.jp/event/event29804/
LOCATION:北海道帯広市東2条南5丁目1-1\, Japan
CATEGORIES:行事予定告知
ATTACH;FMTTYPE=image/jpeg:https://tokachi-obihiro.doyu.jp/wp/wp-content/uploads/2017/12/thum_logo1.jpg
ORGANIZER;CN="%E5%8C%97%E6%B5%B7%E9%81%93%E4%B8%AD%E5%B0%8F%E4%BC%81%E6%A5%AD%E5%AE%B6%E5%90%8C%E5%8F%8B%E4%BC%9A%E3%81%A8%E3%81%8B%E3%81%A1%E6%94%AF%E9%83%A8":MAILTO:tokachi@hokkaido.doyu.jp
END:VEVENT
END:VCALENDAR