BEGIN:VCALENDAR
VERSION:2.0
PRODID:-//北海道中小企業家同友会とかち支部 - ECPv4.6.8//NONSGML v1.0//EN
CALSCALE:GREGORIAN
METHOD:PUBLISH
X-WR-CALNAME:北海道中小企業家同友会とかち支部
X-ORIGINAL-URL:https://tokachi-obihiro.doyu.jp
X-WR-CALDESC:Events for 北海道中小企業家同友会とかち支部
BEGIN:VEVENT
DTSTART;TZID=Asia/Tokyo:20260305T190000
DTEND;TZID=Asia/Tokyo:20260305T210000
DTSTAMP:20260423T102642
CREATED:20260210T011925Z
LAST-MODIFIED:20260210T011925Z
UID:29552-1772737200-1772744400@tokachi-obihiro.doyu.jp
SUMMARY:農業経営部会　臨時総会
DESCRIPTION:❑と　き　３月５日(木) １９：００～２１：００\n❑ところ　同友会事務所（帯広市東2条南5丁目1）またはZOOM参加\n❑会　費　無料\n❑議　題　農業経営部会　年会費の改定（規約改定）について \n❑報告会\n◆テーマ：ドイツ・アグリテクニカ視察報告\n◆報告者：（株）三浦農場　代表取締役　三浦　尚史　氏\n（有）コタニアグリ　代表取締役社長　小谷　行正　氏\n締切：３月３日（火）\n※臨時総会　欠席の場合は、委任する部会員を連絡欄にご記入ください。\nなお、指定がない場合、議長に議決を委任したものとみなします。 \nPDFはこちら \n
URL:https://tokachi-obihiro.doyu.jp/event/event29552/
LOCATION:北海道帯広市東2条南5丁目1-1\, Japan
CATEGORIES:行事予定告知
ATTACH;FMTTYPE=image/jpeg:https://tokachi-obihiro.doyu.jp/wp/wp-content/uploads/2017/12/thum_logo1.jpg
ORGANIZER;CN="%E5%8C%97%E6%B5%B7%E9%81%93%E4%B8%AD%E5%B0%8F%E4%BC%81%E6%A5%AD%E5%AE%B6%E5%90%8C%E5%8F%8B%E4%BC%9A%E3%81%A8%E3%81%8B%E3%81%A1%E6%94%AF%E9%83%A8":MAILTO:tokachi@hokkaido.doyu.jp
END:VEVENT
BEGIN:VEVENT
DTSTART;TZID=Asia/Tokyo:20260305T190000
DTEND;TZID=Asia/Tokyo:20260305T210000
DTSTAMP:20260423T102642
CREATED:20260226T010806Z
LAST-MODIFIED:20260226T010806Z
UID:29662-1772737200-1772744400@tokachi-obihiro.doyu.jp
SUMMARY:拓の会 第9グループ（よろず見聞学（楽）） 3月例会
DESCRIPTION:■テーマ：まとめ（懇親会スタート）\n■話題提供者：参加者全員\n■日　時：3月5日（木)　１９：００～\n■会　費：6\,000円　　　　　　　　　　\n■会　場：旬菜個室居酒屋 晴れのち晴れ（帯広市西１条南９丁目１９） \n【備考】\n出欠のご回答は、3月2日（月）までにお願いいたします。\n【年間スケジュール】\n※原則として第1週木曜日（19時00分～21時00分）\n【問い合わせ】\n同友会事務局（担当：山地） 電話：0155-22-3611 \n
URL:https://tokachi-obihiro.doyu.jp/event/event29662/
LOCATION:帯広市西１条南９丁目１９
CATEGORIES:行事予定告知
ATTACH;FMTTYPE=image/jpeg:https://tokachi-obihiro.doyu.jp/wp/wp-content/uploads/2017/12/thum_logo1.jpg
ORGANIZER;CN="%E5%8C%97%E6%B5%B7%E9%81%93%E4%B8%AD%E5%B0%8F%E4%BC%81%E6%A5%AD%E5%AE%B6%E5%90%8C%E5%8F%8B%E4%BC%9A%E3%81%A8%E3%81%8B%E3%81%A1%E6%94%AF%E9%83%A8":MAILTO:tokachi@hokkaido.doyu.jp
END:VEVENT
END:VCALENDAR