BEGIN:VCALENDAR
VERSION:2.0
PRODID:-//北海道中小企業家同友会とかち支部 - ECPv4.6.8//NONSGML v1.0//EN
CALSCALE:GREGORIAN
METHOD:PUBLISH
X-WR-CALNAME:北海道中小企業家同友会とかち支部
X-ORIGINAL-URL:https://tokachi-obihiro.doyu.jp
X-WR-CALDESC:Events for 北海道中小企業家同友会とかち支部
BEGIN:VEVENT
DTSTART;TZID=Asia/Tokyo:20260303T133000
DTEND;TZID=Asia/Tokyo:20260303T160000
DTSTAMP:20260425T111032
CREATED:20251212T061841Z
LAST-MODIFIED:20260116T060313Z
UID:29160-1772544600-1772553600@tokachi-obihiro.doyu.jp
SUMMARY:第３期十勝経営者大学　北海道論コース第7講（3/3）
DESCRIPTION:※１年１コース開講、全１０回。　　　　　　　　　　　　　　　　　　　　　　　　　　　　　　　　　　\n７回以上の出席者には修了証書を授与。\n｢北海道論｣｢教育論｣｢法律論｣｢経済学｣｢経営学｣の５コース修了（最短５年）で卒業証書授与します。\nレポート提出はありません。 \n■受講対象■ 会員企業の経営者、社員\n■受 講 料■ フルコース受講…55\,000円\nスポット受講…10\,000円（1講につき。第5講のみ3\,000円）\n※請求書を発行いたしますので、記載された支払期日までにお支払いください。\n■日　　時■ １月20日～３月24日 原則火曜日１３：３０～16：00（2時間＋質疑応答時間）\n■会　　場■ 同友会会議室・Zoom（帯広市東2南5丁目1／第5講はとかちプラザ　視聴覚室）\n■締　　切■ １月１6日（金）※テーマ・一部日程は変更の可能性があります。\nその際は事務局よりご連絡致します。 \n＜第7講＞\n3/3(火) 【テーマ】宇宙開発の歴史と現状、北海道の未来展望\n　　　　　【講　師】北海道情報大学　学長　渡部　重十　氏 \n
URL:https://tokachi-obihiro.doyu.jp/event/event29160/
LOCATION:北海道帯広市東2条南5丁目1-1\, Japan
CATEGORIES:行事予定告知
ATTACH;FMTTYPE=image/jpeg:https://tokachi-obihiro.doyu.jp/wp/wp-content/uploads/2017/12/thum_logo1.jpg
ORGANIZER;CN="%E5%8C%97%E6%B5%B7%E9%81%93%E4%B8%AD%E5%B0%8F%E4%BC%81%E6%A5%AD%E5%AE%B6%E5%90%8C%E5%8F%8B%E4%BC%9A%E3%81%A8%E3%81%8B%E3%81%A1%E6%94%AF%E9%83%A8":MAILTO:tokachi@hokkaido.doyu.jp
END:VEVENT
BEGIN:VEVENT
DTSTART;TZID=Asia/Tokyo:20260303T190000
DTEND;TZID=Asia/Tokyo:20260303T210000
DTSTAMP:20260425T111032
CREATED:20260210T074013Z
LAST-MODIFIED:20260210T074119Z
UID:29562-1772564400-1772571600@tokachi-obihiro.doyu.jp
SUMMARY:人生大学３月例会
DESCRIPTION:※人生大学3月例会は女性部会との共催例会です！ \n  \n【テーマ】　　　　選び続けた人生が、経営になった―私の人生と事業承継の話― \n【話題提供者】　　（株）珈琲専科ヨシダ　代表取締役　曽根 史子 氏 \n■日　時；３月３日（火）１９：００～２１：００ \n■会　場；鶯（うぐいす）（帯広市西1条南9丁目12−1 2F、℡：0155-26-3314） \n■会　費；４\,０００円（お食事代として）\n※当日キャンセルは会費を申し受けますことをご了承ください。\n※領収書はお店からの発行。 \n  \n珈琲専科ヨシダは、1975年創業、創業50年を迎えました。\n自家焙煎によるコーヒー豆の販売に早い時期から取り組み、十勝に「自宅でドリップして飲む珈琲」の\n文化を広めてきました。\n現在は、帯広市・音更町・幕別町札内に5店舗(本部ショールーム含む)を展開しています。\n半世紀という節目には、新ブランド「吉田堂」を立ち上げました。\n曽根史子氏は2025年4月、4代目社長として就任。長年培ってきた焙煎技術と信頼を礎に、\n伝統を守りながらも挑戦を続けています。\n人生大学らしい和やかな雰囲気の中で、お話をじっくりと伺ってまいります。 \n※会場準備の都合上、2月27日(金)までに出欠回答をお願いします。\n※お問い合わせは、同友会事務局（担当：北村）まで。電話0155-22-3611 \nPDFはこちら \n
URL:https://tokachi-obihiro.doyu.jp/event/event29562/
LOCATION:西1条南9丁目12-1　帯広市西1条南9丁目12-1　CALIFORNIA HARVEST　2階\, Japan
CATEGORIES:行事予定告知
ATTACH;FMTTYPE=image/jpeg:https://tokachi-obihiro.doyu.jp/wp/wp-content/uploads/2017/12/thum_logo1.jpg
ORGANIZER;CN="%E5%8C%97%E6%B5%B7%E9%81%93%E4%B8%AD%E5%B0%8F%E4%BC%81%E6%A5%AD%E5%AE%B6%E5%90%8C%E5%8F%8B%E4%BC%9A%E3%81%A8%E3%81%8B%E3%81%A1%E6%94%AF%E9%83%A8":MAILTO:tokachi@hokkaido.doyu.jp
END:VEVENT
END:VCALENDAR