BEGIN:VCALENDAR
VERSION:2.0
PRODID:-//北海道中小企業家同友会とかち支部 - ECPv4.6.8//NONSGML v1.0//EN
CALSCALE:GREGORIAN
METHOD:PUBLISH
X-WR-CALNAME:北海道中小企業家同友会とかち支部
X-ORIGINAL-URL:https://tokachi-obihiro.doyu.jp
X-WR-CALDESC:Events for 北海道中小企業家同友会とかち支部
BEGIN:VEVENT
DTSTART;TZID=Asia/Tokyo:20260209T133000
DTEND;TZID=Asia/Tokyo:20260209T160000
DTSTAMP:20260423T125601
CREATED:20251211T061052Z
LAST-MODIFIED:20251212T061413Z
UID:29130-1770643800-1770652800@tokachi-obihiro.doyu.jp
SUMMARY:第３期十勝経営者大学　北海道論コース第4講（2/9）
DESCRIPTION:※１年１コース開講、全１０回。　　　　　　　　　　　　　　　　　　　　　　　　　　　　　　　　　　\n７回以上の出席者には修了証書を授与。\n｢北海道論｣｢教育論｣｢法律論｣｢経済学｣｢経営学｣の５コース修了（最短５年）で卒業証書授与します。\nレポート提出はありません。 \n■受講対象■ 会員企業の経営者、社員\n■受 講 料■ フルコース受講…55\,000円\nスポット受講…10\,000円（1講につき。第5講のみ3\,000円）\n※請求書を発行いたしますので、記載された支払期日までにお支払いください。\n■日　　時■ １月20日～３月24日 原則火曜日１３：３０～16：00（2時間＋質疑応答時間）\n■会　　場■ 同友会会議室・Zoom（帯広市東2南5丁目1／第5講はとかちプラザ　視聴覚室）\n■締　　切■ １月１6日（金）※テーマ・一部日程は変更の可能性があります。\nその際は事務局よりご連絡致します。 \n＜第4講＞\n2/9(月) 【テーマ】地方国立大学の役割\n　　　　　【講　師】帯広畜産大学　学長　長澤　秀行　氏 \n
URL:https://tokachi-obihiro.doyu.jp/event/event29130/
LOCATION:北海道帯広市東2条南5丁目1-1\, Japan
CATEGORIES:行事予定告知
ATTACH;FMTTYPE=image/jpeg:https://tokachi-obihiro.doyu.jp/wp/wp-content/uploads/2017/12/thum_logo1.jpg
ORGANIZER;CN="%E5%8C%97%E6%B5%B7%E9%81%93%E4%B8%AD%E5%B0%8F%E4%BC%81%E6%A5%AD%E5%AE%B6%E5%90%8C%E5%8F%8B%E4%BC%9A%E3%81%A8%E3%81%8B%E3%81%A1%E6%94%AF%E9%83%A8":MAILTO:tokachi@hokkaido.doyu.jp
END:VEVENT
BEGIN:VEVENT
DTSTART;TZID=Asia/Tokyo:20260209T180000
DTEND;TZID=Asia/Tokyo:20260209T200000
DTSTAMP:20260423T125601
CREATED:20260122T010042Z
LAST-MODIFIED:20260122T010042Z
UID:29436-1770660000-1770667200@tokachi-obihiro.doyu.jp
SUMMARY:第12回とかち支部幹事会
DESCRIPTION:■日時：2月9日（月）18：00～20：00\n■会場：同友会事務所またはZoom参加\n■議題：今後の企画、会員増強、他 \n
URL:https://tokachi-obihiro.doyu.jp/event/event29436/
LOCATION:北海道帯広市東2条南5丁目1-1\, Japan
CATEGORIES:行事予定告知
ATTACH;FMTTYPE=image/jpeg:https://tokachi-obihiro.doyu.jp/wp/wp-content/uploads/2017/12/thum_logo1.jpg
ORGANIZER;CN="%E5%8C%97%E6%B5%B7%E9%81%93%E4%B8%AD%E5%B0%8F%E4%BC%81%E6%A5%AD%E5%AE%B6%E5%90%8C%E5%8F%8B%E4%BC%9A%E3%81%A8%E3%81%8B%E3%81%A1%E6%94%AF%E9%83%A8":MAILTO:tokachi@hokkaido.doyu.jp
END:VEVENT
END:VCALENDAR