BEGIN:VCALENDAR
VERSION:2.0
PRODID:-//北海道中小企業家同友会とかち支部 - ECPv4.6.8//NONSGML v1.0//EN
CALSCALE:GREGORIAN
METHOD:PUBLISH
X-WR-CALNAME:北海道中小企業家同友会とかち支部
X-ORIGINAL-URL:https://tokachi-obihiro.doyu.jp
X-WR-CALDESC:Events for 北海道中小企業家同友会とかち支部
BEGIN:VEVENT
DTSTART;TZID=Asia/Tokyo:20260203T133000
DTEND;TZID=Asia/Tokyo:20260203T160000
DTSTAMP:20260421T174622
CREATED:20251209T022800Z
LAST-MODIFIED:20251209T022800Z
UID:29116-1770125400-1770134400@tokachi-obihiro.doyu.jp
SUMMARY:第３期十勝経営者大学　北海道論コース（2/3）
DESCRIPTION:※１年１コース開講、全１０回。\n７回以上の出席者には修了証書を授与。\n｢北海道論｣｢教育論｣｢法律論｣｢経済学｣｢経営学｣の５コース修了（最短５年）で卒業証書授与します。\nレポート提出はありません。 \n■受講対象■ 会員企業の経営者、社員\n■受 講 料■ フルコース受講…55\,000円\nスポット受講…10\,000円（1講につき。第5講のみ3\,000円）\n※請求書を発行いたしますので、記載された支払期日までにお支払いください。\n■日　　時■ １月20日～３月24日 原則火曜日１３：３０～16：00（2時間＋質疑応答時間）\n■会　　場■ 同友会会議室・Zoom（帯広市東2南5丁目1／第5講はとかちプラザ　視聴覚室）\n■締　　切■ １月１6日（金）※テーマ・一部日程は変更の可能性があります。\nその際は事務局よりご連絡致します。 \n＜第3講＞\n2/3(火) 【テーマ】地政学からみた北海道の将来\n　　　　【講　師】日本経済新聞　編集委員兼論説委員　田中　孝幸　氏 \n
URL:https://tokachi-obihiro.doyu.jp/event/event29116/
LOCATION:北海道帯広市東2条南5丁目1-1\, Japan
CATEGORIES:行事予定告知
ATTACH;FMTTYPE=image/jpeg:https://tokachi-obihiro.doyu.jp/wp/wp-content/uploads/2017/12/thum_logo1.jpg
ORGANIZER;CN="%E5%8C%97%E6%B5%B7%E9%81%93%E4%B8%AD%E5%B0%8F%E4%BC%81%E6%A5%AD%E5%AE%B6%E5%90%8C%E5%8F%8B%E4%BC%9A%E3%81%A8%E3%81%8B%E3%81%A1%E6%94%AF%E9%83%A8":MAILTO:tokachi@hokkaido.doyu.jp
END:VEVENT
BEGIN:VEVENT
DTSTART;TZID=Asia/Tokyo:20260203T183000
DTEND;TZID=Asia/Tokyo:20260203T203000
DTSTAMP:20260421T174622
CREATED:20260105T070420Z
LAST-MODIFIED:20260105T070821Z
UID:29287-1770143400-1770150600@tokachi-obihiro.doyu.jp
SUMMARY:同友会を知る会
DESCRIPTION:同友会を知る会は、報告会やグループディスカッションを通じ、\nゲストの方に「同友会とはどんなところか」を知っていただく会です。\n未会員の方とお誘いあわせの上ご参加ください！ \n■日　時：2月3日（火）18：30～20：30\n　　　　　　　　　　　21:00～懇親会　銀座センターバルかぼす\n　　　　　　　　　　　　　　　　　　　　　（帯広市西2南8-18-8） \n■会　場：同友会とかち事務所 (帯広市東２条南５丁目１) \n■参加費：無料（懇親会は実費） \n■プログラム：①同友会の活動紹介\n　　　　　　　②会員による体験報告「同友会と私」\n　　　　　　　③グループディスカッション \n【報告者】\n・1STRETCH.　代表　久保　将人　氏\n・（有）裕信電気　代表取締役　牧野　裕一　氏 \n申込締切：2/2（月）\n締切後の申込みもお受けしておりますので、\n事務局（TEL0155-22-3611）までお問合わせください。 \nPDFはこちら \n  \n
URL:https://tokachi-obihiro.doyu.jp/event/event29287/
LOCATION:北海道帯広市東2条南5丁目1-1\, Japan
CATEGORIES:行事予定告知
ATTACH;FMTTYPE=image/jpeg:https://tokachi-obihiro.doyu.jp/wp/wp-content/uploads/2017/12/thum_logo1.jpg
ORGANIZER;CN="%E5%8C%97%E6%B5%B7%E9%81%93%E4%B8%AD%E5%B0%8F%E4%BC%81%E6%A5%AD%E5%AE%B6%E5%90%8C%E5%8F%8B%E4%BC%9A%E3%81%A8%E3%81%8B%E3%81%A1%E6%94%AF%E9%83%A8":MAILTO:tokachi@hokkaido.doyu.jp
END:VEVENT
END:VCALENDAR