BEGIN:VCALENDAR
VERSION:2.0
PRODID:-//北海道中小企業家同友会とかち支部 - ECPv4.6.8//NONSGML v1.0//EN
CALSCALE:GREGORIAN
METHOD:PUBLISH
X-WR-CALNAME:北海道中小企業家同友会とかち支部
X-ORIGINAL-URL:https://tokachi-obihiro.doyu.jp
X-WR-CALDESC:Events for 北海道中小企業家同友会とかち支部
BEGIN:VEVENT
DTSTART;TZID=Asia/Tokyo:20180219T190000
DTEND;TZID=Asia/Tokyo:20180219T210000
DTSTAMP:20260425T040855
CREATED:20180202T052246Z
LAST-MODIFIED:20180208T042615Z
UID:1688-1519066800-1519074000@tokachi-obihiro.doyu.jp
SUMMARY:第９回青年経営者の会（新旧合同）世話人会
DESCRIPTION:日時：２月１９日（月）１９：００～２１：００ \n会場：同友会とかち事務所 （帯広市東2条南5丁目1番地） \n議題： \n１）第８回例会（２月/人材育成・組織活性化担当）に向けて \n２）第９回例会（３月/世話人会担当）に向けて \n３）第６回定時総会（４月/世話人会担当）に向けて \n４）２０１８年度に向けて \n５）その他 \nPDFはこちら \n第９回青年経営者の会（新旧合同）世話人会
URL:https://tokachi-obihiro.doyu.jp/event/seinen0219/
LOCATION:北海道帯広市東2条南5丁目1-1\, Japan
CATEGORIES:行事予定告知
ATTACH;FMTTYPE=image/jpeg:https://tokachi-obihiro.doyu.jp/wp/wp-content/uploads/2017/12/thum_logo1.jpg
END:VEVENT
END:VCALENDAR