BEGIN:VCALENDAR
VERSION:2.0
PRODID:-//北海道中小企業家同友会とかち支部 - ECPv4.6.8//NONSGML v1.0//EN
CALSCALE:GREGORIAN
METHOD:PUBLISH
X-WR-CALNAME:北海道中小企業家同友会とかち支部
X-ORIGINAL-URL:https://tokachi-obihiro.doyu.jp
X-WR-CALDESC:Events for 北海道中小企業家同友会とかち支部
BEGIN:VEVENT
DTSTART;TZID=Asia/Tokyo:20200706T183000
DTEND;TZID=Asia/Tokyo:20200706T213000
DTSTAMP:20260425T110616
CREATED:20200623T032031Z
LAST-MODIFIED:20200623T032031Z
UID:9970-1594060200-1594071000@tokachi-obihiro.doyu.jp
SUMMARY:経営指針研究会Cグループ第4講
DESCRIPTION:日　時：7月6日（月）18：30～21：30\n会　場：(株)若山農場（幕別町字栄112番地） \n経営指針研究会Cグループ第4講
URL:https://tokachi-obihiro.doyu.jp/event/event9970/
LOCATION:中川郡幕別町字栄112番地\, Japan
CATEGORIES:行事予定告知
ATTACH;FMTTYPE=image/jpeg:https://tokachi-obihiro.doyu.jp/wp/wp-content/uploads/2017/12/thum_logo1.jpg
END:VEVENT
END:VCALENDAR