BEGIN:VCALENDAR
VERSION:2.0
PRODID:-//北海道中小企業家同友会とかち支部 - ECPv4.6.8//NONSGML v1.0//EN
CALSCALE:GREGORIAN
METHOD:PUBLISH
X-WR-CALNAME:北海道中小企業家同友会とかち支部
X-ORIGINAL-URL:https://tokachi-obihiro.doyu.jp
X-WR-CALDESC:Events for 北海道中小企業家同友会とかち支部
BEGIN:VEVENT
DTSTART;TZID=Asia/Tokyo:20200528T190000
DTEND;TZID=Asia/Tokyo:20200528T210000
DTSTAMP:20260424T144456
CREATED:20200428T050015Z
LAST-MODIFIED:20200428T050015Z
UID:9439-1590692400-1590699600@tokachi-obihiro.doyu.jp
SUMMARY:【Zoom開催】第3回あすなる会運営委員会
DESCRIPTION:日　時：5月28日（木）19：00～21：00 \n各自のＰＣ・スマホ・タブレットからご参加ください。\n開催日が近くなりましたら、ミーティングURLをメールします。 \n【議 題】\n・5月グループ例会振り返り（Zoom開催の振り返り）\n・6月グループ例会について\n・7月全体例会に向けて\n・会員手帳作成の進捗状況\n・その他 \n【Zoom開催】第3回あすなる会運営委員会
URL:https://tokachi-obihiro.doyu.jp/event/event9439/
CATEGORIES:行事予定告知
ATTACH;FMTTYPE=image/jpeg:https://tokachi-obihiro.doyu.jp/wp/wp-content/uploads/2017/12/thum_logo1.jpg
END:VEVENT
END:VCALENDAR