BEGIN:VCALENDAR
VERSION:2.0
PRODID:-//北海道中小企業家同友会とかち支部 - ECPv4.6.8//NONSGML v1.0//EN
CALSCALE:GREGORIAN
METHOD:PUBLISH
X-WR-CALNAME:北海道中小企業家同友会とかち支部
X-ORIGINAL-URL:https://tokachi-obihiro.doyu.jp
X-WR-CALDESC:Events for 北海道中小企業家同友会とかち支部
BEGIN:VEVENT
DTSTART;TZID=Asia/Tokyo:20200415T193000
DTEND;TZID=Asia/Tokyo:20200415T203000
DTSTAMP:20260426T000857
CREATED:20200409T064353Z
LAST-MODIFIED:20200409T064353Z
UID:9312-1586979000-1586982600@tokachi-obihiro.doyu.jp
SUMMARY:第１回学び合い活動推進委員会・拓の会正副グループ長会議
DESCRIPTION:■日時：４月１５日(水)１９：３０～２０：３０\n■会場：同友会A会議室（帯広市東２条南５丁目）＊駐車場３か所有\n■議題：拓の会グループ編成、コロナ感染の中での今後の会合の持ち方 \n第１回学び合い活動推進委員会・拓の会正副グループ長会議
URL:https://tokachi-obihiro.doyu.jp/event/event9312/
LOCATION:北海道帯広市東2条南5丁目1-1\, Japan
CATEGORIES:行事予定告知
ATTACH;FMTTYPE=image/jpeg:https://tokachi-obihiro.doyu.jp/wp/wp-content/uploads/2017/12/thum_logo1.jpg
END:VEVENT
END:VCALENDAR