BEGIN:VCALENDAR
VERSION:2.0
PRODID:-//北海道中小企業家同友会とかち支部 - ECPv4.6.8//NONSGML v1.0//EN
CALSCALE:GREGORIAN
METHOD:PUBLISH
X-WR-CALNAME:北海道中小企業家同友会とかち支部
X-ORIGINAL-URL:https://tokachi-obihiro.doyu.jp
X-WR-CALDESC:Events for 北海道中小企業家同友会とかち支部
BEGIN:VEVENT
DTSTART;TZID=Asia/Tokyo:20200610T080000
DTEND;TZID=Asia/Tokyo:20200614T193000
DTSTAMP:20260425T212722
CREATED:20200404T062748Z
LAST-MODIFIED:20200417T085249Z
UID:9286-1591776000-1592163000@tokachi-obihiro.doyu.jp
SUMMARY:【延期】環境部会６月四国視察旅行
DESCRIPTION:※新型コロナウイルス感染症の感染拡大の影響を鑑みて、延期とさせていただきます。 \n■日　時：６月１０日（水）～１４日（日） 【４泊５日】 \n■定　員：１０名（先着順※定員になり次第締切） \n【見学先】\n・リサイクル分別施設・葉っぱビジネス（徳島県上勝町）\n・日本初リサイクル技術施設（香川県三豊市）\n・バイオマスタウン構想施設（愛媛県内子町）など \n【会　費】\n概算１２万円（航空券、宿泊費、レンタカー代含む）　飲食代等実費\n※発券後にキャンセル料が発生いたします（事務局より申込確認のご連絡をいたします。その後、旅行代理店を通じて発券手続きいたします）。 \n行程等、詳細はこちらをご覧ください \n【延期】環境部会６月四国視察旅行
URL:https://tokachi-obihiro.doyu.jp/event/event9286/
CATEGORIES:行事予定告知
ATTACH;FMTTYPE=image/jpeg:https://tokachi-obihiro.doyu.jp/wp/wp-content/uploads/2017/12/thum_logo1.jpg
END:VEVENT
END:VCALENDAR