BEGIN:VCALENDAR
VERSION:2.0
PRODID:-//北海道中小企業家同友会とかち支部 - ECPv4.6.8//NONSGML v1.0//EN
CALSCALE:GREGORIAN
METHOD:PUBLISH
X-WR-CALNAME:北海道中小企業家同友会とかち支部
X-ORIGINAL-URL:https://tokachi-obihiro.doyu.jp
X-WR-CALDESC:Events for 北海道中小企業家同友会とかち支部
BEGIN:VEVENT
DTSTART;TZID=Asia/Tokyo:20200416T180000
DTEND;TZID=Asia/Tokyo:20200416T210000
DTSTAMP:20260425T225332
CREATED:20200327T074920Z
LAST-MODIFIED:20200327T074920Z
UID:9188-1587060000-1587070800@tokachi-obihiro.doyu.jp
SUMMARY:２０１９年度経営指針研究会総括報告会
DESCRIPTION:コロナウイルス感染症の感染拡大に配慮して延期していた報告会を日程変更し開催します。 \n日　時：４月１６日（木）１８：００～２１：００ \n会　場：とかちプラザ４０１（帯広市西4条南13丁目1） \n参加費：無料 \n【発表予定者】\n(有)おかやす　　　　　岡安　純一\n(株)クリエイトフーズ　津田　祥平\n(株)スライブハーツ　　鈴木　健司\n関口農場　　　　　　　関口　孝典\n(株)タカケン　　　　　髙橋　正志\n髙田牧場　　　　　　　髙田　泰輔\n細田不動産(株)　　　　細田　佳宏\n(株)丸三伊藤商店　　　伊藤　友理\n(有)労災防止センター　佐々木　賢一 \n※佐藤木材産業　佐藤専務、自由が丘山田内科クリニック　山田事務長、コスモ運輸　一ノ瀬社長、ホクコー岩橋社長は別日に報告会を開催します。発表予定者の方も状況によって当日欠席になる可能性があります。 \n＜その他＞\n1.ご参加の方は、咳エチケットや頻繁な手洗いなどの予防措置を心掛けてください。また会場の入口にアルコール消毒液を設置するなどして、コロナウイルス感染症の感染拡大防止に努めます。\n2.体調不良や発熱のある方につきましては、参加をご遠慮願います。 \nPDFはこちら \n２０１９年度経営指針研究会総括報告会
URL:https://tokachi-obihiro.doyu.jp/event/event9188/
LOCATION:西4条南13丁目1\, 帯広市\, 北海道\, 080-0014\, Japan
CATEGORIES:行事予定告知
ATTACH;FMTTYPE=image/jpeg:https://tokachi-obihiro.doyu.jp/wp/wp-content/uploads/2017/12/thum_logo1.jpg
END:VEVENT
END:VCALENDAR