BEGIN:VCALENDAR
VERSION:2.0
PRODID:-//北海道中小企業家同友会とかち支部 - ECPv4.6.8//NONSGML v1.0//EN
CALSCALE:GREGORIAN
METHOD:PUBLISH
X-WR-CALNAME:北海道中小企業家同友会とかち支部
X-ORIGINAL-URL:https://tokachi-obihiro.doyu.jp
X-WR-CALDESC:Events for 北海道中小企業家同友会とかち支部
BEGIN:VEVENT
DTSTART;TZID=Asia/Tokyo:20200403T130000
DTEND;TZID=Asia/Tokyo:20200403T150000
DTSTAMP:20260426T000049
CREATED:20200326T050841Z
LAST-MODIFIED:20200326T050841Z
UID:9173-1585918800-1585926000@tokachi-obihiro.doyu.jp
SUMMARY:第1回経営労務委員会
DESCRIPTION:■日　時：４月３日（金）１３：００～１５：００\n■会　場：同友会とかち事務所 (帯広市東２条南５丁目１)\n■議　題：\n１）障がい者雇用セミナーを振り返って\n２）2020年度の活動計画\n３）障がい者に係わる委員会設立に向けて\n４）その他 \n第1回経営労務委員会
URL:https://tokachi-obihiro.doyu.jp/event/event9173/
LOCATION:北海道帯広市東2条南5丁目1-1\, Japan
CATEGORIES:行事予定告知
ATTACH;FMTTYPE=image/jpeg:https://tokachi-obihiro.doyu.jp/wp/wp-content/uploads/2017/12/thum_logo1.jpg
END:VEVENT
END:VCALENDAR