BEGIN:VCALENDAR
VERSION:2.0
PRODID:-//北海道中小企業家同友会とかち支部 - ECPv4.6.8//NONSGML v1.0//EN
CALSCALE:GREGORIAN
METHOD:PUBLISH
X-WR-CALNAME:北海道中小企業家同友会とかち支部
X-ORIGINAL-URL:https://tokachi-obihiro.doyu.jp
X-WR-CALDESC:Events for 北海道中小企業家同友会とかち支部
BEGIN:VEVENT
DTSTART;TZID=Asia/Tokyo:20200403T190000
DTEND;TZID=Asia/Tokyo:20200403T213000
DTSTAMP:20260425T225326
CREATED:20200310T060224Z
LAST-MODIFIED:20200310T060224Z
UID:9023-1585940400-1585949400@tokachi-obihiro.doyu.jp
SUMMARY:第12回青年経営者の会世話人会（新旧合同）
DESCRIPTION:日　時：4月3日（金）19：00～21：00\n会　場：とかちプラザ402（帯広市西4条南13丁目1） \n【議題】\n１）定時総会に向けて\n２）５月例会について\n３）新年度に向けて（登録状況、決算報告等）\n４）その他 \n第12回青年経営者の会世話人会（新旧合同）
URL:https://tokachi-obihiro.doyu.jp/event/event9023/
LOCATION:北海道帯広市西4条南13丁目1\, Japan
CATEGORIES:行事予定告知
ATTACH;FMTTYPE=image/jpeg:https://tokachi-obihiro.doyu.jp/wp/wp-content/uploads/2017/12/thum_logo1.jpg
END:VEVENT
END:VCALENDAR