BEGIN:VCALENDAR
VERSION:2.0
PRODID:-//北海道中小企業家同友会とかち支部 - ECPv4.6.8//NONSGML v1.0//EN
CALSCALE:GREGORIAN
METHOD:PUBLISH
X-WR-CALNAME:北海道中小企業家同友会とかち支部
X-ORIGINAL-URL:https://tokachi-obihiro.doyu.jp
X-WR-CALDESC:Events for 北海道中小企業家同友会とかち支部
BEGIN:VEVENT
DTSTART;TZID=Asia/Tokyo:20200417T190000
DTEND;TZID=Asia/Tokyo:20200417T194000
DTSTAMP:20260425T211902
CREATED:20200310T055544Z
LAST-MODIFIED:20200406T082454Z
UID:9015-1587150000-1587152400@tokachi-obihiro.doyu.jp
SUMMARY:青年経営者の会第８回定時総会　※懇親会中止
DESCRIPTION:※コロナウイルス感染症の感染拡大の影響を鑑みて、例会・懇親会は中止とし、定時総会は予防を徹底して開催します。詳細は下記をご覧ください。 \n日　時：４月１７日（金）１９：００～１９：４０　※当初ご案内から時間を変更しました\n会　場：とかちプラザ４０２（帯広市西4条南13丁目1） \n※ご参加の方は、青年経営者の会の年会費7\,000円を併せて申し受けます。欠席の方は請求書をお送りします。\n※すでに委任状をご提出いただいている場合は改めての提出は必要ありません。 \n■第８回定時総会の開催・運営方法について\n①定時総会は開催します。\n②当日、各自事前に検温し、37.5℃以上の発熱がある場合は参加をお控え下さい。\n③ご参加の方は、咳エチケットや頻繁な手洗いなどの予防措置を心掛けて下さい。\nまた会場の入口にアルコール消毒液を設置して、コロナウイルス感染症の感染拡大防止に努めます。\n④体調不良や発熱のある方につきましては、参加をお控え下さい。\n⑤4月1日（水）以降に本州方面へ行かれた方、海外渡航をされた方は参加をお控え下さい。\n⑥多数の人が集まる場への参加に不安を感じる方は、ご欠席いただいても構いません。ご無理のない範囲でご参加ください。 \nPDFはこちら \n青年経営者の会第８回定時総会　※懇親会中止
URL:https://tokachi-obihiro.doyu.jp/event/event9015/
LOCATION:北海道帯広市西4条南13丁目1\, Japan
CATEGORIES:行事予定告知
ATTACH;FMTTYPE=image/jpeg:https://tokachi-obihiro.doyu.jp/wp/wp-content/uploads/2017/12/thum_logo1.jpg
END:VEVENT
END:VCALENDAR