BEGIN:VCALENDAR
VERSION:2.0
PRODID:-//北海道中小企業家同友会とかち支部 - ECPv4.6.8//NONSGML v1.0//EN
CALSCALE:GREGORIAN
METHOD:PUBLISH
X-WR-CALNAME:北海道中小企業家同友会とかち支部
X-ORIGINAL-URL:https://tokachi-obihiro.doyu.jp
X-WR-CALDESC:Events for 北海道中小企業家同友会とかち支部
BEGIN:VEVENT
DTSTART;TZID=Asia/Tokyo:20200410T190000
DTEND;TZID=Asia/Tokyo:20200410T194500
DTSTAMP:20260425T121759
CREATED:20200304T015818Z
LAST-MODIFIED:20200330T025852Z
UID:8971-1586545200-1586547900@tokachi-obihiro.doyu.jp
SUMMARY:あすなる会第２２回定時総会
DESCRIPTION:コロナウイルス感染症の感染拡大の影響を鑑みて、規模を縮小して開催します。顔合わせ・記念講演・懇親会は中止とし、定時総会は予防を徹底して開催します。 \n日　時：４月１０日（金）　１9：００～19：45　※当初ご案内から時間変更しました \n会　場：とかちプラザ３０４（帯広市西4条南13丁目1） \n・当日はあすなる会の年会費15\,000円（予定、※本総会にて審議予定）を併せて申し受けます。 \nPDFはこちら \nあすなる会第２２回定時総会
URL:https://tokachi-obihiro.doyu.jp/event/event8971/
LOCATION:帯広市西4条南13丁目1\, 北海道\, Japan
CATEGORIES:行事予定告知
ATTACH;FMTTYPE=image/jpeg:https://tokachi-obihiro.doyu.jp/wp/wp-content/uploads/2017/12/thum_logo1.jpg
END:VEVENT
END:VCALENDAR