BEGIN:VCALENDAR
VERSION:2.0
PRODID:-//北海道中小企業家同友会とかち支部 - ECPv4.6.8//NONSGML v1.0//EN
CALSCALE:GREGORIAN
METHOD:PUBLISH
X-WR-CALNAME:北海道中小企業家同友会とかち支部
X-ORIGINAL-URL:https://tokachi-obihiro.doyu.jp
X-WR-CALDESC:Events for 北海道中小企業家同友会とかち支部
BEGIN:VEVENT
DTSTART;TZID=Asia/Tokyo:20200408T190000
DTEND;TZID=Asia/Tokyo:20200408T210000
DTSTAMP:20260423T111838
CREATED:20200227T044404Z
LAST-MODIFIED:20200312T021648Z
UID:8914-1586372400-1586379600@tokachi-obihiro.doyu.jp
SUMMARY:【日程変更】足寄地区会３月例会
DESCRIPTION:■日　時：４月８日（水）　１９：００～２１：００\n■会　場：かってば（はたらくものづくり村内　足寄町南1条4丁目30番地）\n■テーマ：新年度の地区会活動計画と役員体制について\n■会　費：無料（お食事のご用意はありません） \nPDFはこちら \n【日程変更】足寄地区会３月例会
URL:https://tokachi-obihiro.doyu.jp/event/event8914/
LOCATION:北海道足寄郡足寄町南１条４丁目３０番地\, Japan
CATEGORIES:行事予定告知
ATTACH;FMTTYPE=image/jpeg:https://tokachi-obihiro.doyu.jp/wp/wp-content/uploads/2017/12/thum_logo1.jpg
END:VEVENT
END:VCALENDAR