BEGIN:VCALENDAR
VERSION:2.0
PRODID:-//北海道中小企業家同友会とかち支部 - ECPv4.6.8//NONSGML v1.0//EN
CALSCALE:GREGORIAN
METHOD:PUBLISH
X-WR-CALNAME:北海道中小企業家同友会とかち支部
X-ORIGINAL-URL:https://tokachi-obihiro.doyu.jp
X-WR-CALDESC:Events for 北海道中小企業家同友会とかち支部
BEGIN:VEVENT
DTSTART;TZID=Asia/Tokyo:20200309T190000
DTEND;TZID=Asia/Tokyo:20200309T210000
DTSTAMP:20260422T163309
CREATED:20200219T060153Z
LAST-MODIFIED:20200219T060153Z
UID:8826-1583780400-1583787600@tokachi-obihiro.doyu.jp
SUMMARY:第11回青年経営者の会世話人会（新旧合同）
DESCRIPTION:日　時：3月9日（月）19：00～21：00\n会　場：同友とかち事務所（帯広市東2条南5丁目1） \n■議題\n１）第7回例会（2月開催）を振り返って\n２）第8回例会（3月開催）に向けて\n３）新年度に向けて\n４）その他 \n第11回青年経営者の会世話人会（新旧合同）
URL:https://tokachi-obihiro.doyu.jp/event/event8826/
LOCATION:北海道帯広市東2条南5丁目1-1\, Japan
CATEGORIES:行事予定告知
ATTACH;FMTTYPE=image/jpeg:https://tokachi-obihiro.doyu.jp/wp/wp-content/uploads/2017/12/thum_logo1.jpg
END:VEVENT
END:VCALENDAR