BEGIN:VCALENDAR
VERSION:2.0
PRODID:-//北海道中小企業家同友会とかち支部 - ECPv4.6.8//NONSGML v1.0//EN
CALSCALE:GREGORIAN
METHOD:PUBLISH
X-WR-CALNAME:北海道中小企業家同友会とかち支部
X-ORIGINAL-URL:https://tokachi-obihiro.doyu.jp
X-WR-CALDESC:Events for 北海道中小企業家同友会とかち支部
BEGIN:VEVENT
DTSTART;TZID=Asia/Tokyo:20200309T190000
DTEND;TZID=Asia/Tokyo:20200309T210000
DTSTAMP:20260422T144513
CREATED:20200219T021649Z
LAST-MODIFIED:20200227T013457Z
UID:8818-1583780400-1583787600@tokachi-obihiro.doyu.jp
SUMMARY:【中止】経営指針研究会Bグループ第15講
DESCRIPTION:※新型コロナウイルスの感染拡大に配慮して開催を中止いたします。 \n日　時：3月9日（月）19：00～21：00\n会　場：㈱共同電設（帯広市西2条南24丁目17番地1）\n内　容：報告会リハーサル \n【中止】経営指針研究会Bグループ第15講
URL:https://tokachi-obihiro.doyu.jp/event/event8818/
LOCATION:帯広市西2条南24丁目17番地1\, 北海道\, Japan
CATEGORIES:行事予定告知
ATTACH;FMTTYPE=image/jpeg:https://tokachi-obihiro.doyu.jp/wp/wp-content/uploads/2017/12/thum_logo1.jpg
END:VEVENT
END:VCALENDAR