BEGIN:VCALENDAR
VERSION:2.0
PRODID:-//北海道中小企業家同友会とかち支部 - ECPv4.6.8//NONSGML v1.0//EN
CALSCALE:GREGORIAN
METHOD:PUBLISH
X-WR-CALNAME:北海道中小企業家同友会とかち支部
X-ORIGINAL-URL:https://tokachi-obihiro.doyu.jp
X-WR-CALDESC:Events for 北海道中小企業家同友会とかち支部
BEGIN:VEVENT
DTSTART;TZID=Asia/Tokyo:20200309T190000
DTEND;TZID=Asia/Tokyo:20200309T210000
DTSTAMP:20260422T131520
CREATED:20200212T020912Z
LAST-MODIFIED:20200227T012419Z
UID:8764-1583780400-1583787600@tokachi-obihiro.doyu.jp
SUMMARY:【中止】激友会
DESCRIPTION:※新型コロナウイルスの感染拡大に配慮して開催を中止いたします。 \n激動を良き友にする経営者の 会 \n日　時：3月9日(月)　19:00~21:00\n会　場 : 同友会とかち支部事務所（帯広市東２条南５丁目１） \n【話題提供者】\nまつもと薬局　代表取締役　松本 健春　氏\n㈱つながり　　代表取締役　北村 直也　氏 \nPDFはこちら \n【中止】激友会
URL:https://tokachi-obihiro.doyu.jp/event/event8764/
LOCATION:北海道帯広市東2条南5丁目1-1\, Japan
CATEGORIES:行事予定告知
ATTACH;FMTTYPE=image/jpeg:https://tokachi-obihiro.doyu.jp/wp/wp-content/uploads/2017/12/thum_logo1.jpg
END:VEVENT
END:VCALENDAR