BEGIN:VCALENDAR
VERSION:2.0
PRODID:-//北海道中小企業家同友会とかち支部 - ECPv4.6.8//NONSGML v1.0//EN
CALSCALE:GREGORIAN
METHOD:PUBLISH
X-WR-CALNAME:北海道中小企業家同友会とかち支部
X-ORIGINAL-URL:https://tokachi-obihiro.doyu.jp
X-WR-CALDESC:Events for 北海道中小企業家同友会とかち支部
BEGIN:VEVENT
DTSTART;TZID=Asia/Tokyo:20200310T190000
DTEND;TZID=Asia/Tokyo:20200310T220000
DTSTAMP:20260422T160733
CREATED:20200210T054519Z
LAST-MODIFIED:20200226T043702Z
UID:8752-1583866800-1583877600@tokachi-obihiro.doyu.jp
SUMMARY:【中止】あすなる会３月全体例会
DESCRIPTION:※新型コロナウィルスの感染拡大に配慮して開催を中止いたします。 \n日　時：３月１０日（火）　１９：００～２２：００ \n＜全体例会＞19：00～20：30　　＜懇 親 会＞20：30～22：00 \n会　場：食歓場（帯広市西三条南10丁目11） \n参加費：５\,０００円（ご飲食代として）※例会のみ参加は無料 \n～３月例会テーマ　ワンチームあすなる～ \nテーマ① あすなる会　グループ報告 \nテーマ②　みんなに話そう、自分のこと・会社のこと \n★終了後、二次会を開催します！ \nPDFはこちら \n【中止】あすなる会３月全体例会
URL:https://tokachi-obihiro.doyu.jp/event/event8752/
LOCATION:帯広市西3南10-11\, 北海道\, Japan
CATEGORIES:行事予定告知
ATTACH;FMTTYPE=image/jpeg:https://tokachi-obihiro.doyu.jp/wp/wp-content/uploads/2017/12/thum_logo1.jpg
END:VEVENT
END:VCALENDAR