BEGIN:VCALENDAR
VERSION:2.0
PRODID:-//北海道中小企業家同友会とかち支部 - ECPv4.6.8//NONSGML v1.0//EN
CALSCALE:GREGORIAN
METHOD:PUBLISH
X-WR-CALNAME:北海道中小企業家同友会とかち支部
X-ORIGINAL-URL:https://tokachi-obihiro.doyu.jp
X-WR-CALDESC:Events for 北海道中小企業家同友会とかち支部
BEGIN:VEVENT
DTSTART;TZID=Asia/Tokyo:20200220T183000
DTEND;TZID=Asia/Tokyo:20200220T203000
DTSTAMP:20260421T141017
CREATED:20200207T014423Z
LAST-MODIFIED:20200207T014423Z
UID:8734-1582223400-1582230600@tokachi-obihiro.doyu.jp
SUMMARY:第１０回十勝農商工連携部会幹事会
DESCRIPTION:日時：２月２０日(木) １８：３０～２０：３０\n会場：同友会とかち支部会議室 (帯広市東２条南５丁目１)\n議題：\n１.各研究会活動状況について\n２.今後の活動について（翌年度の活動・体制など）\n３.その他 \n第１０回十勝農商工連携部会幹事会
URL:https://tokachi-obihiro.doyu.jp/event/event8734/
LOCATION:北海道帯広市東2条南5丁目1-1\, Japan
CATEGORIES:行事予定告知
ATTACH;FMTTYPE=image/jpeg:https://tokachi-obihiro.doyu.jp/wp/wp-content/uploads/2017/12/thum_logo1.jpg
END:VEVENT
END:VCALENDAR