BEGIN:VCALENDAR
VERSION:2.0
PRODID:-//北海道中小企業家同友会とかち支部 - ECPv4.6.8//NONSGML v1.0//EN
CALSCALE:GREGORIAN
METHOD:PUBLISH
X-WR-CALNAME:北海道中小企業家同友会とかち支部
X-ORIGINAL-URL:https://tokachi-obihiro.doyu.jp
X-WR-CALDESC:Events for 北海道中小企業家同友会とかち支部
BEGIN:VEVENT
DTSTART;TZID=Asia/Tokyo:20200109T183000
DTEND;TZID=Asia/Tokyo:20200109T213000
DTSTAMP:20260421T010800
CREATED:20191218T085827Z
LAST-MODIFIED:20191218T085827Z
UID:8317-1578594600-1578605400@tokachi-obihiro.doyu.jp
SUMMARY:経営指針研究会Aグループ第12講
DESCRIPTION:日　時：1月9日（木）18：30～21：30\n会　場：ソーゴー印刷(株)（帯広市西16北1-25）\n※正面シャッターが降りているので、シャッター右横のドアから入ってください。 \n【発表者】全員\n【課　題】①中期経営計画\n②単年度経営計画 \n※課題は当日午前中までにご提出下さい。 \n経営指針研究会Aグループ第12講
URL:https://tokachi-obihiro.doyu.jp/event/event8317/
LOCATION:西１６条北１丁目２５−２１\, 帯広市\, 北海道\, Japan
CATEGORIES:行事予定告知
ATTACH;FMTTYPE=image/jpeg:https://tokachi-obihiro.doyu.jp/wp/wp-content/uploads/2017/12/thum_logo1.jpg
END:VEVENT
END:VCALENDAR