BEGIN:VCALENDAR
VERSION:2.0
PRODID:-//北海道中小企業家同友会とかち支部 - ECPv4.6.8//NONSGML v1.0//EN
CALSCALE:GREGORIAN
METHOD:PUBLISH
X-WR-CALNAME:北海道中小企業家同友会とかち支部
X-ORIGINAL-URL:https://tokachi-obihiro.doyu.jp
X-WR-CALDESC:Events for 北海道中小企業家同友会とかち支部
BEGIN:VEVENT
DTSTART;TZID=Asia/Tokyo:20191205T130000
DTEND;TZID=Asia/Tokyo:20191205T150000
DTSTAMP:20260423T083238
CREATED:20191126T004526Z
LAST-MODIFIED:20191126T004526Z
UID:8091-1575550800-1575558000@tokachi-obihiro.doyu.jp
SUMMARY:第3回経営労務委員会
DESCRIPTION:■日　時：１２月５日（木）１３：００～１５：００\n■会　場：同友会とかち事務所 (帯広市東２条南５丁目１)※お食事はございません。\n■議　題：\n１）障がい者雇用セミナーに向けて\n２）次年度の中札内高等養護学校　見学会に向けて\n３）次年度について（取り上げたいテーマ等）\n４）その他 \n第3回経営労務委員会
URL:https://tokachi-obihiro.doyu.jp/event/event8091/
LOCATION:北海道帯広市東2条南5丁目1-1\, Japan
CATEGORIES:行事予定告知
ATTACH;FMTTYPE=image/jpeg:https://tokachi-obihiro.doyu.jp/wp/wp-content/uploads/2017/12/thum_logo1.jpg
END:VEVENT
END:VCALENDAR