BEGIN:VCALENDAR
VERSION:2.0
PRODID:-//北海道中小企業家同友会とかち支部 - ECPv4.6.8//NONSGML v1.0//EN
CALSCALE:GREGORIAN
METHOD:PUBLISH
X-WR-CALNAME:北海道中小企業家同友会とかち支部
X-ORIGINAL-URL:https://tokachi-obihiro.doyu.jp
X-WR-CALDESC:Events for 北海道中小企業家同友会とかち支部
BEGIN:VEVENT
DTSTART;TZID=Asia/Tokyo:20191206T163000
DTEND;TZID=Asia/Tokyo:20191206T183000
DTSTAMP:20260420T143729
CREATED:20191115T013038Z
LAST-MODIFIED:20191115T013213Z
UID:8015-1575649800-1575657000@tokachi-obihiro.doyu.jp
SUMMARY:第９回十勝地域商社研究会
DESCRIPTION:■日時：１２月６日（金） １６：３０～１８：３０\n■会場：同友会とかち事務所（帯広市東２条南５丁目１　０１５５－２２－３６１１）\n※会議後に『望年会』を企画しております。ぜひご参加ください！ \nPDFはこちら \n第９回十勝地域商社研究会
URL:https://tokachi-obihiro.doyu.jp/event/event8015/
LOCATION:北海道帯広市東2条南5丁目1-1\, Japan
CATEGORIES:行事予定告知
ATTACH;FMTTYPE=image/jpeg:https://tokachi-obihiro.doyu.jp/wp/wp-content/uploads/2017/12/thum_logo1.jpg
END:VEVENT
END:VCALENDAR