BEGIN:VCALENDAR
VERSION:2.0
PRODID:-//北海道中小企業家同友会とかち支部 - ECPv4.6.8//NONSGML v1.0//EN
CALSCALE:GREGORIAN
METHOD:PUBLISH
X-WR-CALNAME:北海道中小企業家同友会とかち支部
X-ORIGINAL-URL:https://tokachi-obihiro.doyu.jp
X-WR-CALDESC:Events for 北海道中小企業家同友会とかち支部
BEGIN:VEVENT
DTSTART;TZID=Asia/Tokyo:20191208T093000
DTEND;TZID=Asia/Tokyo:20191208T150000
DTSTAMP:20260424T171611
CREATED:20191112T030126Z
LAST-MODIFIED:20191112T030946Z
UID:7963-1575797400-1575817200@tokachi-obihiro.doyu.jp
SUMMARY:親子ふれあいもちつき大会  餅つきお手伝い(運営補助)・協賛のお願い  兼 新得地区会１２月例会
DESCRIPTION:◆と　き：１２月８日（日）　午前９：３０ 集合\n１０:００　親子ふれあいもちつき大会（持ち物；エプロン・三角巾）\n１２:００　昼食会\n１２:４５　後片付け\n１３:１５　解散\n◆ところ：新得町公民館　ふれあいホール\n◆参加費：２\,０００円\n＊＊＊＊＊＊＊＊＊＊＊＊＊＊＊＊＊＊＊＊＊＊＊＊＊＊＊＊＊＊＊＊＊＊＊＊＊＊\n《同時開催！新得地区会１２月例会》\n◆１２月８日(日)１３：３０～１５：００\n◆新得町公民館　研修室\n◆参加費無料 \nPDFはこちら \n親子ふれあいもちつき大会  餅つきお手伝い(運営補助)・協賛のお願い  兼 新得地区会１２月例会
URL:https://tokachi-obihiro.doyu.jp/event/event7963/
LOCATION:上川郡新得町4条南4丁目9番地\, 081-0014\, Japan
CATEGORIES:行事予定告知
ATTACH;FMTTYPE=image/jpeg:https://tokachi-obihiro.doyu.jp/wp/wp-content/uploads/2017/12/thum_logo1.jpg
END:VEVENT
END:VCALENDAR