BEGIN:VCALENDAR
VERSION:2.0
PRODID:-//北海道中小企業家同友会とかち支部 - ECPv4.6.8//NONSGML v1.0//EN
CALSCALE:GREGORIAN
METHOD:PUBLISH
X-WR-CALNAME:北海道中小企業家同友会とかち支部
X-ORIGINAL-URL:https://tokachi-obihiro.doyu.jp
X-WR-CALDESC:Events for 北海道中小企業家同友会とかち支部
BEGIN:VEVENT
DTSTART;TZID=Asia/Tokyo:20191213T190000
DTEND;TZID=Asia/Tokyo:20191213T210000
DTSTAMP:20260420T131050
CREATED:20191111T070046Z
LAST-MODIFIED:20191111T070046Z
UID:7955-1576263600-1576270800@tokachi-obihiro.doyu.jp
SUMMARY:青年経営者の会臨時総会・望年会
DESCRIPTION:日　時：１２月１３日（金）　１９：００～２１：００ \n臨時総会／19:00～19:20　　望年会／19：20～21:00 \n[議題]　①2020年度世話人選出に関して \n　　　　②2020年度代表選出に関して \n会　場：ふく井ホテル　バイプレーン（帯広市西1条南11丁目19） \n参加費：５\,５００円（ご飲食代として） \n※領収書は同友会からとなります \n※臨時総会のみ参加の方は無料 \n※12月12日（木）以降のキャンセルは会費を申し受けます。 \nPDFはこちら \n青年経営者の会臨時総会・望年会
URL:https://tokachi-obihiro.doyu.jp/event/event7955/
LOCATION:帯広市西1条南11丁目19\, Japan
CATEGORIES:行事予定告知
ATTACH;FMTTYPE=image/jpeg:https://tokachi-obihiro.doyu.jp/wp/wp-content/uploads/2017/12/thum_logo1.jpg
END:VEVENT
END:VCALENDAR