BEGIN:VCALENDAR
VERSION:2.0
PRODID:-//北海道中小企業家同友会とかち支部 - ECPv4.6.8//NONSGML v1.0//EN
CALSCALE:GREGORIAN
METHOD:PUBLISH
X-WR-CALNAME:北海道中小企業家同友会とかち支部
X-ORIGINAL-URL:https://tokachi-obihiro.doyu.jp
X-WR-CALDESC:Events for 北海道中小企業家同友会とかち支部
BEGIN:VEVENT
DTSTART;TZID=Asia/Tokyo:20191113T190000
DTEND;TZID=Asia/Tokyo:20191113T210000
DTSTAMP:20260422T173737
CREATED:20191105T034505Z
LAST-MODIFIED:20191105T034505Z
UID:7911-1573671600-1573678800@tokachi-obihiro.doyu.jp
SUMMARY:拓の会第８グループ１１月例会
DESCRIPTION:日　時：１１月１３日（水）１９：００～２１：００ \n会　場：同友会とかち事務所（帯広市東２条南５丁目１） \nテーマ：『新規採用・中途採用について～自らの経験と自社の現状について意見交換』 \n話題提供者：参加者全員 \n  \n拓の会第８グループ１１月例会
URL:https://tokachi-obihiro.doyu.jp/event/event7911/
LOCATION:北海道帯広市東2条南5丁目1-1\, Japan
CATEGORIES:行事予定告知
ATTACH;FMTTYPE=image/jpeg:https://tokachi-obihiro.doyu.jp/wp/wp-content/uploads/2017/12/thum_logo1.jpg
END:VEVENT
END:VCALENDAR