BEGIN:VCALENDAR
VERSION:2.0
PRODID:-//北海道中小企業家同友会とかち支部 - ECPv4.6.8//NONSGML v1.0//EN
CALSCALE:GREGORIAN
METHOD:PUBLISH
X-WR-CALNAME:北海道中小企業家同友会とかち支部
X-ORIGINAL-URL:https://tokachi-obihiro.doyu.jp
X-WR-CALDESC:Events for 北海道中小企業家同友会とかち支部
BEGIN:VEVENT
DTSTART;TZID=Asia/Tokyo:20191118T133000
DTEND;TZID=Asia/Tokyo:20191118T150000
DTSTAMP:20260424T103413
CREATED:20191031T051708Z
LAST-MODIFIED:20191031T051708Z
UID:7878-1574083800-1574089200@tokachi-obihiro.doyu.jp
SUMMARY:第2回広報委員会
DESCRIPTION:◆日時　2019年11月18日(月)　13：30～15：00\n◆会場　同友会事務局\n◆議題　今後の広報活動、会員への情報発信について \n第2回広報委員会
URL:https://tokachi-obihiro.doyu.jp/event/event7878/
LOCATION:北海道帯広市東2条南5丁目1-1\, Japan
CATEGORIES:行事予定告知
ATTACH;FMTTYPE=image/jpeg:https://tokachi-obihiro.doyu.jp/wp/wp-content/uploads/2017/12/thum_logo1.jpg
END:VEVENT
END:VCALENDAR