BEGIN:VCALENDAR
VERSION:2.0
PRODID:-//北海道中小企業家同友会とかち支部 - ECPv4.6.8//NONSGML v1.0//EN
CALSCALE:GREGORIAN
METHOD:PUBLISH
X-WR-CALNAME:北海道中小企業家同友会とかち支部
X-ORIGINAL-URL:https://tokachi-obihiro.doyu.jp
X-WR-CALDESC:Events for 北海道中小企業家同友会とかち支部
BEGIN:VEVENT
DTSTART;TZID=Asia/Tokyo:20191121T190000
DTEND;TZID=Asia/Tokyo:20191121T210000
DTSTAMP:20260422T030732
CREATED:20191025T031333Z
LAST-MODIFIED:20191025T031333Z
UID:7818-1574362800-1574370000@tokachi-obihiro.doyu.jp
SUMMARY:あすなる会社長学グループ１１月例会
DESCRIPTION:日　時：１１月２１日(木)１９：００～２１：００ \n会　場：同友会とかち事務所(帯広市東２条南５丁目１) \nテーマ：あすなる会と『社長になる心構え』 \n講　師：㈲橋本組 　代表取締役 　菊地　和也 氏 \n★例会終了後、懇親会を予定しております。ご都合のつく方はご出席ください。 \nあすなる会社長学グループ１１月例会
URL:https://tokachi-obihiro.doyu.jp/event/event7818/
LOCATION:北海道帯広市東2条南5丁目1-1\, Japan
CATEGORIES:行事予定告知
ATTACH;FMTTYPE=image/jpeg:https://tokachi-obihiro.doyu.jp/wp/wp-content/uploads/2017/12/thum_logo1.jpg
END:VEVENT
END:VCALENDAR