BEGIN:VCALENDAR
VERSION:2.0
PRODID:-//北海道中小企業家同友会とかち支部 - ECPv4.6.8//NONSGML v1.0//EN
CALSCALE:GREGORIAN
METHOD:PUBLISH
X-WR-CALNAME:北海道中小企業家同友会とかち支部
X-ORIGINAL-URL:https://tokachi-obihiro.doyu.jp
X-WR-CALDESC:Events for 北海道中小企業家同友会とかち支部
BEGIN:VEVENT
DTSTART;TZID=Asia/Tokyo:20191113T190000
DTEND;TZID=Asia/Tokyo:20191113T210000
DTSTAMP:20260422T130542
CREATED:20191025T030042Z
LAST-MODIFIED:20191025T030042Z
UID:7812-1573671600-1573678800@tokachi-obihiro.doyu.jp
SUMMARY:あすなる会商行学グループ１１月例会
DESCRIPTION:日　時 ：１１月１３日(水)１９：００～２１：００ \n会　場 ：とかちプラザ３０７(帯広市西4条南13丁目1) \nテーマ：働き方改革にともなう、今後の働き方 \n講　師：古田社労士行政書士事務所 所長　古田 裕 氏 \n★例会終了後、懇親会を予定しております。ご都合のつく方はご出席ください。 \nあすなる会商行学グループ１１月例会
URL:https://tokachi-obihiro.doyu.jp/event/event7812/
LOCATION:帯広市西4条南13丁目1\, 帯広市\, 北海道\, Japan
CATEGORIES:行事予定告知
ATTACH;FMTTYPE=image/jpeg:https://tokachi-obihiro.doyu.jp/wp/wp-content/uploads/2017/12/thum_logo1.jpg
END:VEVENT
END:VCALENDAR