BEGIN:VCALENDAR
VERSION:2.0
PRODID:-//北海道中小企業家同友会とかち支部 - ECPv4.6.8//NONSGML v1.0//EN
CALSCALE:GREGORIAN
METHOD:PUBLISH
X-WR-CALNAME:北海道中小企業家同友会とかち支部
X-ORIGINAL-URL:https://tokachi-obihiro.doyu.jp
X-WR-CALDESC:Events for 北海道中小企業家同友会とかち支部
BEGIN:VEVENT
DTSTART;TZID=Asia/Tokyo:20191118T183000
DTEND;TZID=Asia/Tokyo:20191118T203000
DTSTAMP:20260424T093704
CREATED:20191024T015209Z
LAST-MODIFIED:20191024T015209Z
UID:7789-1574101800-1574109000@tokachi-obihiro.doyu.jp
SUMMARY:第７回共育委員会
DESCRIPTION:■日　時；１１月１８日（月）１８：３０～２０：３０\n■会　場；事務局A会議室（帯広市東２条南５丁目）＊駐車場有\n■議　題；冬季と春季の社員研修企画の検討\n■学習会；『共に育つ１』（中同協発行） \n第７回共育委員会
URL:https://tokachi-obihiro.doyu.jp/event/event7789/
LOCATION:北海道帯広市東2条南5丁目1-1\, Japan
CATEGORIES:行事予定告知
ATTACH;FMTTYPE=image/jpeg:https://tokachi-obihiro.doyu.jp/wp/wp-content/uploads/2017/12/thum_logo1.jpg
END:VEVENT
END:VCALENDAR