BEGIN:VCALENDAR
VERSION:2.0
PRODID:-//北海道中小企業家同友会とかち支部 - ECPv4.6.8//NONSGML v1.0//EN
CALSCALE:GREGORIAN
METHOD:PUBLISH
X-WR-CALNAME:北海道中小企業家同友会とかち支部
X-ORIGINAL-URL:https://tokachi-obihiro.doyu.jp
X-WR-CALDESC:Events for 北海道中小企業家同友会とかち支部
BEGIN:VEVENT
DTSTART;TZID=Asia/Tokyo:20191128T150000
DTEND;TZID=Asia/Tokyo:20191128T180000
DTSTAMP:20260421T124525
CREATED:20191011T074849Z
LAST-MODIFIED:20191011T074849Z
UID:7713-1574953200-1574964000@tokachi-obihiro.doyu.jp
SUMMARY:農業経営部会１１月オープン例会（アグリフードネットワークin帯広）
DESCRIPTION:日　時 ：１１月２８日（木）１５：００～（受付１４：３０～） \n会　場 ：ホテル日航ノースランド帯広（帯広市西２条南１３丁目１番地） \n参加費 ：５\,０００円　※講演会のみご参加の方は無料、懇親会ご参加のお客様からのみいただきます。 \n  \n【第1部 講演会】（１５：１０～１６：３０） \nテーマ：ＭＵＪＩが生まれる『思考』と『言葉』～幸せな経済に向かって \n講　師：㈱良品計画　代表取締役会長　金井 政明　氏 \n  \n【第2部 懇親会】（１６：４０～１８：００） \nご出席いただける方、自社の生産物、食材をご提供いただける方は、「出欠票」にご記載のうえ、事務局宛てにお申込みください。 \n  \n※申込期限：10月31日（木） \nPDFはこちら \n農業経営部会１１月オープン例会（アグリフードネットワークin帯広）
URL:https://tokachi-obihiro.doyu.jp/event/event7713/
LOCATION:北海道帯広市西２条南１３丁目１−１ １番地\, Japan
CATEGORIES:行事予定告知
ATTACH;FMTTYPE=image/jpeg:https://tokachi-obihiro.doyu.jp/wp/wp-content/uploads/2017/12/thum_logo1.jpg
END:VEVENT
END:VCALENDAR