BEGIN:VCALENDAR
VERSION:2.0
PRODID:-//北海道中小企業家同友会とかち支部 - ECPv4.6.8//NONSGML v1.0//EN
CALSCALE:GREGORIAN
METHOD:PUBLISH
X-WR-CALNAME:北海道中小企業家同友会とかち支部
X-ORIGINAL-URL:https://tokachi-obihiro.doyu.jp
X-WR-CALDESC:Events for 北海道中小企業家同友会とかち支部
BEGIN:VEVENT
DTSTART;TZID=Asia/Tokyo:20191017T093000
DTEND;TZID=Asia/Tokyo:20191017T133000
DTSTAMP:20260420T153003
CREATED:20191007T041457Z
LAST-MODIFIED:20191007T041457Z
UID:7650-1571304600-1571319000@tokachi-obihiro.doyu.jp
SUMMARY:ゴルフ同好会アンコール杯
DESCRIPTION:【アンコール杯】 \n日　時：１０月１７日（木）   ９：３０ スタート \n会　場： 帯広国際ＣＣ \n※１０/１１までにお返事をお願いします。 \nPDFはこちら \nゴルフ同好会アンコール杯
URL:https://tokachi-obihiro.doyu.jp/event/event7650/
LOCATION:中川郡幕別町字千住４２７\, 北海道
CATEGORIES:行事予定告知
ATTACH;FMTTYPE=image/jpeg:https://tokachi-obihiro.doyu.jp/wp/wp-content/uploads/2017/12/thum_logo1.jpg
END:VEVENT
END:VCALENDAR