BEGIN:VCALENDAR
VERSION:2.0
PRODID:-//北海道中小企業家同友会とかち支部 - ECPv4.6.8//NONSGML v1.0//EN
CALSCALE:GREGORIAN
METHOD:PUBLISH
X-WR-CALNAME:北海道中小企業家同友会とかち支部
X-ORIGINAL-URL:https://tokachi-obihiro.doyu.jp
X-WR-CALDESC:Events for 北海道中小企業家同友会とかち支部
BEGIN:VEVENT
DTSTART;TZID=Asia/Tokyo:20191025T190000
DTEND;TZID=Asia/Tokyo:20191025T210000
DTSTAMP:20260423T142710
CREATED:20190927T021310Z
LAST-MODIFIED:20190927T021310Z
UID:7575-1572030000-1572037200@tokachi-obihiro.doyu.jp
SUMMARY:第8回あすなる会運営委員会
DESCRIPTION:日　時：10月25日（金）19：00～21：00\n会　場：とかちプラザ306（帯広市西4条南13丁目1） \n議 題\n・11月グループ例会について\n・臨時総会＆望年例会について\n・新年度に向けて\n・その他 \n第8回あすなる会運営委員会
URL:https://tokachi-obihiro.doyu.jp/event/event7575/
LOCATION:帯広市西4条南13丁目1\, 帯広市\, 北海道\, Japan
CATEGORIES:行事予定告知
ATTACH;FMTTYPE=image/jpeg:https://tokachi-obihiro.doyu.jp/wp/wp-content/uploads/2017/12/thum_logo1.jpg
END:VEVENT
END:VCALENDAR