BEGIN:VCALENDAR
VERSION:2.0
PRODID:-//北海道中小企業家同友会とかち支部 - ECPv4.6.8//NONSGML v1.0//EN
CALSCALE:GREGORIAN
METHOD:PUBLISH
X-WR-CALNAME:北海道中小企業家同友会とかち支部
X-ORIGINAL-URL:https://tokachi-obihiro.doyu.jp
X-WR-CALDESC:Events for 北海道中小企業家同友会とかち支部
BEGIN:VEVENT
DTSTART;TZID=Asia/Tokyo:20200324T130000
DTEND;TZID=Asia/Tokyo:20200324T160000
DTSTAMP:20260421T130622
CREATED:20190925T015033Z
LAST-MODIFIED:20200302T021932Z
UID:7555-1585054800-1585065600@tokachi-obihiro.doyu.jp
SUMMARY:【延期】第２期十勝経営者大学 「経営学」コース【第１０講】
DESCRIPTION:※新型コロナウィルスの感染拡大に配慮して開催を延期いたします。 \n■ 受講対象：経営者、幹部社員\n■ 受講料：全１０講座５万円・部分申込１講座 １万円\n■ 日　時：３月２４日（火） １３：００～１６：００（３時間）\n■ 会　場：同友会会議室　（帯広市東2条南5丁目　電話：0155-22-3611）\n■ テーマ：「リスクとリスクマネジメントの基礎」\n■ 講　師：帯広畜産大学　教授　仙北谷康氏 \nPDFはこちら \n【延期】第２期十勝経営者大学 「経営学」コース【第１０講】
URL:https://tokachi-obihiro.doyu.jp/event/event7555/
LOCATION:北海道帯広市東2条南5丁目1-1\, Japan
CATEGORIES:行事予定告知
ATTACH;FMTTYPE=image/jpeg:https://tokachi-obihiro.doyu.jp/wp/wp-content/uploads/2017/12/thum_logo1.jpg
END:VEVENT
END:VCALENDAR