BEGIN:VCALENDAR
VERSION:2.0
PRODID:-//北海道中小企業家同友会とかち支部 - ECPv4.6.8//NONSGML v1.0//EN
CALSCALE:GREGORIAN
METHOD:PUBLISH
X-WR-CALNAME:北海道中小企業家同友会とかち支部
X-ORIGINAL-URL:https://tokachi-obihiro.doyu.jp
X-WR-CALDESC:Events for 北海道中小企業家同友会とかち支部
BEGIN:VEVENT
DTSTART;TZID=Asia/Tokyo:20191015T190000
DTEND;TZID=Asia/Tokyo:20191015T210000
DTSTAMP:20260420T180547
CREATED:20190912T082049Z
LAST-MODIFIED:20190912T082049Z
UID:7392-1571166000-1571173200@tokachi-obihiro.doyu.jp
SUMMARY:農業経営部会 第7回幹事会
DESCRIPTION:日　時：10月15日（火) 19：00～21：00\n会　場：同友会とかち事務所（帯広市東2条南5丁目1） \n【議題】\n１．今後の例会について\n２．望年例会について\n３．その他 \n農業経営部会 第7回幹事会
URL:https://tokachi-obihiro.doyu.jp/event/event7392/
LOCATION:北海道帯広市東2条南5丁目1-1\, Japan
CATEGORIES:行事予定告知
ATTACH;FMTTYPE=image/jpeg:https://tokachi-obihiro.doyu.jp/wp/wp-content/uploads/2017/12/thum_logo1.jpg
END:VEVENT
END:VCALENDAR