BEGIN:VCALENDAR
VERSION:2.0
PRODID:-//北海道中小企業家同友会とかち支部 - ECPv4.6.8//NONSGML v1.0//EN
CALSCALE:GREGORIAN
METHOD:PUBLISH
X-WR-CALNAME:北海道中小企業家同友会とかち支部
X-ORIGINAL-URL:https://tokachi-obihiro.doyu.jp
X-WR-CALDESC:Events for 北海道中小企業家同友会とかち支部
BEGIN:VEVENT
DTSTART;TZID=Asia/Tokyo:20191003T130000
DTEND;TZID=Asia/Tokyo:20191003T150000
DTSTAMP:20260424T165628
CREATED:20190912T052308Z
LAST-MODIFIED:20190912T052308Z
UID:7362-1570107600-1570114800@tokachi-obihiro.doyu.jp
SUMMARY:第2回経営労務委員会
DESCRIPTION:■日　時：１０月３日（木）１３：００～１５：００\n■会　場：同友会とかち事務所 (帯広市東２条南５丁目１ TEL 22-3611)\n　　　　　※お食事はございません。\n■議　題：\n１）中札内高等養護学校　見学会を振り返って\n２）ＢＣＰセミナーを振り返って\n３）１１月以降に開催するセミナーについて\n４）その他 \n第2回経営労務委員会
URL:https://tokachi-obihiro.doyu.jp/event/event7362/
LOCATION:北海道帯広市東2条南5丁目1-1\, Japan
CATEGORIES:行事予定告知
ATTACH;FMTTYPE=image/jpeg:https://tokachi-obihiro.doyu.jp/wp/wp-content/uploads/2017/12/thum_logo1.jpg
END:VEVENT
END:VCALENDAR