BEGIN:VCALENDAR
VERSION:2.0
PRODID:-//北海道中小企業家同友会とかち支部 - ECPv4.6.8//NONSGML v1.0//EN
CALSCALE:GREGORIAN
METHOD:PUBLISH
X-WR-CALNAME:北海道中小企業家同友会とかち支部
X-ORIGINAL-URL:https://tokachi-obihiro.doyu.jp
X-WR-CALDESC:Events for 北海道中小企業家同友会とかち支部
BEGIN:VEVENT
DTSTART;TZID=Asia/Tokyo:20191024T183000
DTEND;TZID=Asia/Tokyo:20191024T213000
DTSTAMP:20260423T160043
CREATED:20190911T031115Z
LAST-MODIFIED:20190911T031258Z
UID:7332-1571941800-1571952600@tokachi-obihiro.doyu.jp
SUMMARY:経営指針研究会Aグループ第8講
DESCRIPTION:日　時：10月24日（木）18：30～21：30\n会　場：自由が丘山田内科クリニック（帯広市自由が丘1丁目1番地10） \n【発表者】全員\n【発表シート】\n①外部環境分析\n②自社事業分析\n③ＳＷＯＴ分析 \n※課題は当日午前中までにご提出下さい。 \n経営指針研究会Aグループ第8講
URL:https://tokachi-obihiro.doyu.jp/event/event7332/
LOCATION:帯広市自由が丘1丁目1番地10\, 北海道\, Japan
CATEGORIES:行事予定告知
ATTACH;FMTTYPE=image/jpeg:https://tokachi-obihiro.doyu.jp/wp/wp-content/uploads/2017/12/thum_logo1.jpg
END:VEVENT
END:VCALENDAR