BEGIN:VCALENDAR
VERSION:2.0
PRODID:-//北海道中小企業家同友会とかち支部 - ECPv4.6.8//NONSGML v1.0//EN
CALSCALE:GREGORIAN
METHOD:PUBLISH
X-WR-CALNAME:北海道中小企業家同友会とかち支部
X-ORIGINAL-URL:https://tokachi-obihiro.doyu.jp
X-WR-CALDESC:Events for 北海道中小企業家同友会とかち支部
BEGIN:VEVENT
DTSTART;TZID=Asia/Tokyo:20190926T190000
DTEND;TZID=Asia/Tokyo:20190926T210000
DTSTAMP:20260420T210835
CREATED:20190829T055225Z
LAST-MODIFIED:20190829T055225Z
UID:7211-1569524400-1569531600@tokachi-obihiro.doyu.jp
SUMMARY:第7回あすなる会運営委員会
DESCRIPTION:日　時：9月26日（木）19：00～21：00\n会　場：とかちプラザ403（帯広市西4条南13丁目1） \n議 題\n・10月グループ例会について\n・起望峰との合同例会を振り返って\n・臨時総会＆望年例会について\n・その他 \n第7回あすなる会運営委員会
URL:https://tokachi-obihiro.doyu.jp/event/event7211/
LOCATION:北海道帯広市西4条南13丁目1\, Japan
CATEGORIES:行事予定告知
ATTACH;FMTTYPE=image/jpeg:https://tokachi-obihiro.doyu.jp/wp/wp-content/uploads/2017/12/thum_logo1.jpg
END:VEVENT
END:VCALENDAR