BEGIN:VCALENDAR
VERSION:2.0
PRODID:-//北海道中小企業家同友会とかち支部 - ECPv4.6.8//NONSGML v1.0//EN
CALSCALE:GREGORIAN
METHOD:PUBLISH
X-WR-CALNAME:北海道中小企業家同友会とかち支部
X-ORIGINAL-URL:https://tokachi-obihiro.doyu.jp
X-WR-CALDESC:Events for 北海道中小企業家同友会とかち支部
BEGIN:VEVENT
DTSTART;TZID=Asia/Tokyo:20191003T190000
DTEND;TZID=Asia/Tokyo:20191003T210000
DTSTAMP:20260420T221559
CREATED:20190829T014728Z
LAST-MODIFIED:20190829T014728Z
UID:7208-1570129200-1570136400@tokachi-obihiro.doyu.jp
SUMMARY:第5回経営指針委員会
DESCRIPTION:◇日　時：10月3日（木）19：00～21：00\n◇会　場：とかち豚丼　夢の蔵（帯広市西23条北1丁目5-5）\n◇議　題：\n　・研究会の進捗状況（各グループの状況、一泊研修会に向けて）\n　・同窓会について\n　・その他 \n第5回経営指針委員会
URL:https://tokachi-obihiro.doyu.jp/event/event7208/
LOCATION:日本、〒080-2463 北海道帯広市西２３条北１丁目５−５\, Japan
CATEGORIES:行事予定告知
ATTACH;FMTTYPE=image/jpeg:https://tokachi-obihiro.doyu.jp/wp/wp-content/uploads/2017/12/thum_logo1.jpg
END:VEVENT
END:VCALENDAR