BEGIN:VCALENDAR
VERSION:2.0
PRODID:-//北海道中小企業家同友会とかち支部 - ECPv4.6.8//NONSGML v1.0//EN
CALSCALE:GREGORIAN
METHOD:PUBLISH
X-WR-CALNAME:北海道中小企業家同友会とかち支部
X-ORIGINAL-URL:https://tokachi-obihiro.doyu.jp
X-WR-CALDESC:Events for 北海道中小企業家同友会とかち支部
BEGIN:VEVENT
DTSTART;TZID=Asia/Tokyo:20190821T190000
DTEND;TZID=Asia/Tokyo:20190821T210000
DTSTAMP:20260421T142632
CREATED:20190808T063507Z
LAST-MODIFIED:20190808T063507Z
UID:7060-1566414000-1566421200@tokachi-obihiro.doyu.jp
SUMMARY:拓の会第6グループ8月例会
DESCRIPTION:日　時：8月２１日（水）　１９：0０～２１：００ \n会　場：同友会とかち事務所（帯広市東２条南５丁目１） \nテーマ：馬車Bar～地域の魅力を引き出し、住む人も訪れる人も幸せになれるサービス～ \n話題提供者： サステイナブルツーリズム　代表取締役　永田　剛　氏 \nPDFはこちら \n拓の会第6グループ8月例会
URL:https://tokachi-obihiro.doyu.jp/event/event7060/
LOCATION:北海道帯広市東2条南5丁目1-1\, Japan
CATEGORIES:行事予定告知
ATTACH;FMTTYPE=image/jpeg:https://tokachi-obihiro.doyu.jp/wp/wp-content/uploads/2017/12/thum_logo1.jpg
END:VEVENT
END:VCALENDAR