BEGIN:VCALENDAR
VERSION:2.0
PRODID:-//北海道中小企業家同友会とかち支部 - ECPv4.6.8//NONSGML v1.0//EN
CALSCALE:GREGORIAN
METHOD:PUBLISH
X-WR-CALNAME:北海道中小企業家同友会とかち支部
X-ORIGINAL-URL:https://tokachi-obihiro.doyu.jp
X-WR-CALDESC:Events for 北海道中小企業家同友会とかち支部
BEGIN:VEVENT
DTSTART;TZID=Asia/Tokyo:20190710T190000
DTEND;TZID=Asia/Tokyo:20190710T210000
DTSTAMP:20260421T142651
CREATED:20190624T004636Z
LAST-MODIFIED:20190624T004636Z
UID:6643-1562785200-1562792400@tokachi-obihiro.doyu.jp
SUMMARY:拓の会第８グループ7月例会
DESCRIPTION:日　時：7月１０日（水）　１９：００～２１：００ \n会　場：同友会とかち事務所（帯広市東２条南５丁目１） \nテーマ：ひとり親家庭（母子・父子家庭）の雇用の仕方と現状について \n話題提供者：参加者全員 \n※出席される方は、別紙（添付）のアンケートをご持参ください。 \n※欠席される方は、7/8（月）までにアンケートを第8グループ長 \n（高嶋コンクリート工業㈱ 井上さん）へ直接ご返信下さい。 \nPDFはこちら \n拓の会第８グループ7月例会
URL:https://tokachi-obihiro.doyu.jp/event/event6643/
LOCATION:北海道帯広市東2条南5丁目1-1\, Japan
CATEGORIES:行事予定告知
ATTACH;FMTTYPE=image/jpeg:https://tokachi-obihiro.doyu.jp/wp/wp-content/uploads/2017/12/thum_logo1.jpg
END:VEVENT
END:VCALENDAR