BEGIN:VCALENDAR
VERSION:2.0
PRODID:-//北海道中小企業家同友会とかち支部 - ECPv4.6.8//NONSGML v1.0//EN
CALSCALE:GREGORIAN
METHOD:PUBLISH
X-WR-CALNAME:北海道中小企業家同友会とかち支部
X-ORIGINAL-URL:https://tokachi-obihiro.doyu.jp
X-WR-CALDESC:Events for 北海道中小企業家同友会とかち支部
BEGIN:VEVENT
DTSTART;TZID=Asia/Tokyo:20190615T163000
DTEND;TZID=Asia/Tokyo:20190615T173000
DTSTAMP:20260420T155627
CREATED:20190611T024223Z
LAST-MODIFIED:20190611T024223Z
UID:6562-1560616200-1560619800@tokachi-obihiro.doyu.jp
SUMMARY:帯広畜産大学“１年生”との交流会
DESCRIPTION:◆日時：６月１５日(土)16:30～17：30　※16:15現地集合\n◆集合場所：満寿屋商店・麦音(帯広市稲田町南8線西16-43)\n※自社のパンフレットなど持参ください（参加学生分２０部程度）\n◆参加費：1\,000円 ※パンやコーヒーなど簡単な立食形式での開催\nPDFはこちら \n帯広畜産大学“１年生”との交流会
URL:https://tokachi-obihiro.doyu.jp/event/event6562/
LOCATION:帯広市稲田町南8線西16-43\, 帯広市\, Japan
CATEGORIES:行事予定告知
ATTACH;FMTTYPE=image/jpeg:https://tokachi-obihiro.doyu.jp/wp/wp-content/uploads/2017/12/thum_logo1.jpg
END:VEVENT
END:VCALENDAR