BEGIN:VCALENDAR
VERSION:2.0
PRODID:-//北海道中小企業家同友会とかち支部 - ECPv4.6.8//NONSGML v1.0//EN
CALSCALE:GREGORIAN
METHOD:PUBLISH
X-WR-CALNAME:北海道中小企業家同友会とかち支部
X-ORIGINAL-URL:https://tokachi-obihiro.doyu.jp
X-WR-CALDESC:Events for 北海道中小企業家同友会とかち支部
BEGIN:VEVENT
DTSTART;TZID=Asia/Tokyo:20190617T190000
DTEND;TZID=Asia/Tokyo:20190617T210000
DTSTAMP:20260422T112551
CREATED:20190530T071733Z
LAST-MODIFIED:20190606T035623Z
UID:6451-1560798000-1560805200@tokachi-obihiro.doyu.jp
SUMMARY:第1回いろはの会
DESCRIPTION:日　時：６月１７日(月)　１９：００～２１：００ \n会　場：同友会とかち事務所（帯広市東２条南５丁目、電話22-3611） \nテーマ：「私と同友会活動について」 \n講　師：株式会社ネクサス 代表取締役会長 曽根　一 氏（人生大学学長） \n中村農場　代表 中村　正信 氏（スタートアップ副委員長/農業経営部会相談役） \nPDFはこちら \n第1回いろはの会
URL:https://tokachi-obihiro.doyu.jp/event/event6451/
LOCATION:北海道帯広市東2条南5丁目1-1\, Japan
CATEGORIES:行事予定告知
ATTACH;FMTTYPE=image/jpeg:https://tokachi-obihiro.doyu.jp/wp/wp-content/uploads/2017/12/thum_logo1.jpg
END:VEVENT
END:VCALENDAR