BEGIN:VCALENDAR
VERSION:2.0
PRODID:-//北海道中小企業家同友会とかち支部 - ECPv4.6.8//NONSGML v1.0//EN
CALSCALE:GREGORIAN
METHOD:PUBLISH
X-WR-CALNAME:北海道中小企業家同友会とかち支部
X-ORIGINAL-URL:https://tokachi-obihiro.doyu.jp
X-WR-CALDESC:Events for 北海道中小企業家同友会とかち支部
BEGIN:VEVENT
DTSTART;TZID=Asia/Tokyo:20190605T180000
DTEND;TZID=Asia/Tokyo:20190605T200000
DTSTAMP:20260420T131101
CREATED:20190529T015207Z
LAST-MODIFIED:20190529T015207Z
UID:6437-1559757600-1559764800@tokachi-obihiro.doyu.jp
SUMMARY:第１回とかち地サイダー研究会
DESCRIPTION:◆日　時：６月５日（水） １８：００～２０：００\n◆会　場：同友会とかち事務所(帯広市東2条南5丁目1)\n◆テーマ：地サイダーの販売、今後のイベント出展について等\nPDFはこちら \n第１回とかち地サイダー研究会
URL:https://tokachi-obihiro.doyu.jp/event/event6437/
LOCATION:北海道帯広市東2条南5丁目1-1\, Japan
CATEGORIES:行事予定告知
ATTACH;FMTTYPE=image/jpeg:https://tokachi-obihiro.doyu.jp/wp/wp-content/uploads/2017/12/thum_logo1.jpg
END:VEVENT
END:VCALENDAR