BEGIN:VCALENDAR
VERSION:2.0
PRODID:-//北海道中小企業家同友会とかち支部 - ECPv4.6.8//NONSGML v1.0//EN
CALSCALE:GREGORIAN
METHOD:PUBLISH
X-WR-CALNAME:北海道中小企業家同友会とかち支部
X-ORIGINAL-URL:https://tokachi-obihiro.doyu.jp
X-WR-CALDESC:Events for 北海道中小企業家同友会とかち支部
BEGIN:VEVENT
DTSTART;TZID=Asia/Tokyo:20190605T190000
DTEND;TZID=Asia/Tokyo:20190605T210000
DTSTAMP:20260423T171859
CREATED:20190520T060056Z
LAST-MODIFIED:20190520T060056Z
UID:6302-1559761200-1559768400@tokachi-obihiro.doyu.jp
SUMMARY:第2回青年経営者の会世話人会
DESCRIPTION:日時：6月5日（水）19：00～21：00\n会場：とかちプラザ306（帯広市西4条南13丁目1）\n議題\n１）第1回例会に向けて\n２）第2回例会に向けて\n３）その他 \n第2回青年経営者の会世話人会
URL:https://tokachi-obihiro.doyu.jp/event/event6302/
LOCATION:帯広市西4条南13丁目1\, 北海道\, Japan
CATEGORIES:行事予定告知
ATTACH;FMTTYPE=image/jpeg:https://tokachi-obihiro.doyu.jp/wp/wp-content/uploads/2017/12/thum_logo1.jpg
END:VEVENT
END:VCALENDAR