BEGIN:VCALENDAR
VERSION:2.0
PRODID:-//北海道中小企業家同友会とかち支部 - ECPv4.6.8//NONSGML v1.0//EN
CALSCALE:GREGORIAN
METHOD:PUBLISH
X-WR-CALNAME:北海道中小企業家同友会とかち支部
X-ORIGINAL-URL:https://tokachi-obihiro.doyu.jp
X-WR-CALDESC:Events for 北海道中小企業家同友会とかち支部
BEGIN:VEVENT
DTSTART;TZID=Asia/Tokyo:20190611T093000
DTEND;TZID=Asia/Tokyo:20190611T170000
DTSTAMP:20260425T120941
CREATED:20190520T054342Z
LAST-MODIFIED:20190523T053124Z
UID:6285-1560245400-1560272400@tokachi-obihiro.doyu.jp
SUMMARY:第８期社員ステップアップ研修①
DESCRIPTION:＜募集要項＞ \n受講対象：社歴１０年未満の社員（役職、年齢不問） \n受 講 料 ：１５\,０００円　※当日キャンセルは会費を申し受けます \n日時 ：６月１１日（火）９：３０～１７：００ \n６月１９日（水）９：３０～１７：００ \n６月２４日（月）９：３０～１７：００ \n※全日参加が条件です \n会場：同友会会議室（帯広市東２条南５丁目１） \n定員：３０名 （先着順） \n持ち物 ：昼食は各自・筆記用具 \n締切：６月６日（木）必着 \nPDFはこちら \n第８期社員ステップアップ研修①
URL:https://tokachi-obihiro.doyu.jp/event/event6285/
LOCATION:北海道帯広市東2条南5丁目1-1\, Japan
CATEGORIES:行事予定告知
ATTACH;FMTTYPE=image/jpeg:https://tokachi-obihiro.doyu.jp/wp/wp-content/uploads/2017/12/thum_logo1.jpg
END:VEVENT
END:VCALENDAR