BEGIN:VCALENDAR
VERSION:2.0
PRODID:-//北海道中小企業家同友会とかち支部 - ECPv4.6.8//NONSGML v1.0//EN
CALSCALE:GREGORIAN
METHOD:PUBLISH
X-WR-CALNAME:北海道中小企業家同友会とかち支部
X-ORIGINAL-URL:https://tokachi-obihiro.doyu.jp
X-WR-CALDESC:Events for 北海道中小企業家同友会とかち支部
BEGIN:VEVENT
DTSTART;TZID=Asia/Tokyo:20190712T103000
DTEND;TZID=Asia/Tokyo:20190712T210000
DTSTAMP:20260423T100030
CREATED:20190516T053415Z
LAST-MODIFIED:20190516T053415Z
UID:6244-1562927400-1562965200@tokachi-obihiro.doyu.jp
SUMMARY:全道農業関連部会交流会inとかち（支部7月例会）
DESCRIPTION:■スローガン「破壊と創造～十勝アグリイノベーション～」\n■日　時：７月１２日(金)１０：３０～２１：００\n■会　場：ホテル日航ノースランド帯広、他\n■参加費：１５，０００円\n■分科会：９分科会（移動８、座学１）」 \n【記念講演】\n講　師：(株)ファームノートホールディングス　代表取締役　小林 晋也 氏\nテーマ：「スタートアップ、経営者の苦悩、異業種への参入、そして成長。」 \n※農業者に限らず、同友会会員の皆様にご参加いただけますので、ぜひともご参加のほどお願いいたします。 \nPDFはこちら \n全道農業関連部会交流会inとかち（支部7月例会）
URL:https://tokachi-obihiro.doyu.jp/event/event6244/
CATEGORIES:行事予定告知
ATTACH;FMTTYPE=image/jpeg:https://tokachi-obihiro.doyu.jp/wp/wp-content/uploads/2017/12/thum_logo1.jpg
END:VEVENT
END:VCALENDAR