BEGIN:VCALENDAR
VERSION:2.0
PRODID:-//北海道中小企業家同友会とかち支部 - ECPv4.6.8//NONSGML v1.0//EN
CALSCALE:GREGORIAN
METHOD:PUBLISH
X-WR-CALNAME:北海道中小企業家同友会とかち支部
X-ORIGINAL-URL:https://tokachi-obihiro.doyu.jp
X-WR-CALDESC:Events for 北海道中小企業家同友会とかち支部
BEGIN:VEVENT
DTSTART;TZID=Asia/Tokyo:20190610T190000
DTEND;TZID=Asia/Tokyo:20190610T210000
DTSTAMP:20260421T085230
CREATED:20190515T084351Z
LAST-MODIFIED:20190515T084351Z
UID:6210-1560193200-1560200400@tokachi-obihiro.doyu.jp
SUMMARY:農業経営部会６月例会
DESCRIPTION:日　時：６月１０日(月)１９：００～２１:００ \n会　場：同友会とかち事務所（帯広市東2条南5丁目1） \n参加費：無　料 \n【報告1】 \nテーマ：地域の農業、環境を守る理想的な土を作り、健康で美味しい作物を消費者へ \n報告者：さとう農場 　代表　 佐藤　朋康 氏　（幕別町） \n【報告2】 \nテーマ：人のため、牛のため、自然のため、社員全員が一丸となって学び共に成長しあえる牧場へ \n報告者：㈱中野牧場 　代表取締役　 中野　大樹 氏　（鹿追町） \nPDFはこちら \n  \n農業経営部会６月例会
URL:https://tokachi-obihiro.doyu.jp/event/event6210/
LOCATION:北海道帯広市東2条南5丁目1-1\, Japan
CATEGORIES:行事予定告知
ATTACH;FMTTYPE=image/jpeg:https://tokachi-obihiro.doyu.jp/wp/wp-content/uploads/2017/12/thum_logo1.jpg
END:VEVENT
END:VCALENDAR